BEGIN:VCALENDAR
VERSION:2.0
PRODID:-//Martindale Travel and Tours - ECPv6.15.11//NONSGML v1.0//EN
CALSCALE:GREGORIAN
METHOD:PUBLISH
X-WR-CALNAME:Martindale Travel and Tours
X-ORIGINAL-URL:https://www.cruisewinetravel.com
X-WR-CALDESC:Events for Martindale Travel and Tours
REFRESH-INTERVAL;VALUE=DURATION:PT1H
X-Robots-Tag:noindex
X-PUBLISHED-TTL:PT1H
BEGIN:VTIMEZONE
TZID:UTC
BEGIN:STANDARD
TZOFFSETFROM:+0000
TZOFFSETTO:+0000
TZNAME:UTC
DTSTART:20250101T000000
END:STANDARD
END:VTIMEZONE
BEGIN:VEVENT
DTSTART;VALUE=DATE:20260606
DTEND;VALUE=DATE:20260614
DTSTAMP:20260422T155247
CREATED:20241101T163403Z
LAST-MODIFIED:20260302T174704Z
UID:12331-1780704000-1781395199@www.cruisewinetravel.com
SUMMARY:Mediterranean Wayfarer With Wiens Winery
DESCRIPTION:BOOK NOW:   Call 206-399-2138   |   Email amartindale@cruiseplanners.com\n\nMediterranean Wayfarer with Wiens Cellars\nJune 6th – June 13th\, 2026 \nRome to Trieste (Venice) \n \n\n \n7 Days aboard The NEW Oceania Allura (new ship in 2025) \nIncluded in your cruise fare: \nTravel with Wiens Owners & Representatives! \nPrestige Beverage Package (all alcohol included) \nGourmet Specialty Dining (4 specialty restaurants on board) \nUnlimited WiFi \nGratuities \nWelcome and Farewell Cocktail Parties \nWine Paired Dinner with Wiens Cellars\n \nOptional Exclusive Wine Excursions will be available (for an additional charge) in Montenegro and Croatia. \nA private wine focused post-cruise extension in Venice will be available for an additional charge. \n \nDeposit of $500/cabin is due to reserve your stateroom \nCancellation Policy \nThe following cancellation charges will be assessed for all cancellations received prior to departure up to the scheduled time of departure. \n181 days or more prior to departure $150.00 per person \n180 to 151 days prior to departure $500.00 per person \n150 to 121 days prior to departure 25% of full fare \n120 to 91 days prior to departure 50% of full fare \n90 to 61 days prior to departure 75% of full fare \n60 days or less prior to departure 100% of full fare
URL:https://www.cruisewinetravel.com/event/mediterranean-wayfarer-with-wiens-winery/
LOCATION:Oceania Cruises ~ Oceania Allura
CATEGORIES:Wine & Food Cruises/Tours
ATTACH;FMTTYPE=image/jpeg:https://www.cruisewinetravel.com/wp-content/uploads/2024/11/allura.jpg
END:VEVENT
BEGIN:VEVENT
DTSTART;VALUE=DATE:20261024
DTEND;VALUE=DATE:20261101
DTSTAMP:20260422T155247
CREATED:20250513T142752Z
LAST-MODIFIED:20250513T142752Z
UID:12349-1792800000-1793491199@www.cruisewinetravel.com
SUMMARY:Flavors Of Spain And Portugal On The Douro River With Chef Phillis Carey
DESCRIPTION:BOOK NOW:   Call 206-399-2138   |   Email amartindale@cruiseplanners.com\n\nChef Phillis Carey sails to Spain and Portugal with \n \n \nFlavors of Portugal & Spain (Vega Terron\, Spain to Porto\, Portugal) \nOctober 24th to October 31st\, 2026 \n \nTaste wines from these vineyards and discover the timeless traditions of Portuguese winemaking throughout your journey. Visit Castelo Rodrigo\, the “White Village”; enjoy an immersive lunch at a quinta in Pinhão; see Lamego\, one of Portugal’s most important pilgrimage sites; and marvel at a centuries-old Portuguese monastery. Historic places\, unspoiled beauty and distinctive wines are yours to be enjoyed as you savor the flavors of Spain and Portugal. \nOptional Pre-Cruise 3 nights in Madrid and 3 nights post-cruise in Porto for an additional charge \n \nDepost of $400pp is required to secure your stateroom or suite. \nFinal payment is due on 7/19/26 \n$200pp cancellation penalty\, up to 121 days prior to the cruise.
URL:https://www.cruisewinetravel.com/event/flavors-of-spain-and-portugal-on-the-douro-river-with-chef-phillis-carey/
LOCATION:AmaWaterways ~ AmaVida
CATEGORIES:Wine & Food Cruises/Tours
ATTACH;FMTTYPE=image/jpeg:https://www.cruisewinetravel.com/wp-content/uploads/2025/05/amavida.jpg
END:VEVENT
BEGIN:VEVENT
DTSTART;VALUE=DATE:20270602
DTEND;VALUE=DATE:20270612
DTSTAMP:20260422T155247
CREATED:20251105T195014Z
LAST-MODIFIED:20260302T174841Z
UID:12373-1811894400-1812758399@www.cruisewinetravel.com
SUMMARY:Cruise The Mediterranean With The San Francisco Wine School 2027
DESCRIPTION:BOOK NOW:   Call 206-399-2138   |   Email amartindale@cruiseplanners.com\n\nCruise the Mediterranean with the San Francisco Wine School\n \nBarcelona to Rome \nJune 2nd – June 11th\, 2027 \n9 Days \nSailing on Oceania Cruises NEW Allura \n \nSpecial Offer\nYour World Included™\nAll Specialty Dining\nShipboard Gratuities\nUnlimited WiFi \nplus choice of:\nComplimentary Wine & Beer\nor $400 Shore Excursion Credit \nExclusive Amenities for our group \n$250 shipboard credit per stateroom \nPrivate wine tastings/seminars and a group wine dinner with Master Sommelier\, David Glancy \n \nDeposit of $500/cabin is due to reserve your stateroom \nCancellation Policy \nThe following cancellation charges will be assessed for all cancellations received prior to departure up to the scheduled time of departure. \n181 days or more prior to departure $150.00 per person \n180 to 151 days prior to departure $500.00 per person \n150 to 121 days prior to departure 25% of full fare \n120 to 91 days prior to departure 50% of full fare \n90 to 61 days prior to departure 75% of full fare \n60 days or less prior to departure 100% of full fare
URL:https://www.cruisewinetravel.com/event/cruise-the-mediterranean-with-the-san-francisco-wine-school-2027/
LOCATION:Oceania Cruises ~ Oceania Allura
CATEGORIES:Wine & Food Cruises/Tours
ATTACH;FMTTYPE=image/jpeg:https://www.cruisewinetravel.com/wp-content/uploads/2024/11/allura.jpg
END:VEVENT
BEGIN:VEVENT
DTSTART;VALUE=DATE:20270709
DTEND;VALUE=DATE:20270718
DTSTAMP:20260422T155247
CREATED:20260302T173036Z
LAST-MODIFIED:20260302T174136Z
UID:12395-1815091200-1815868799@www.cruisewinetravel.com
SUMMARY:MTGA Wines Mediterranean Cruise 2027
DESCRIPTION:BOOK NOW:   Call 206-399-2138   |   Email amartindale@cruiseplanners.com\n\nSail with MTGA Wines from Barcelona to Rome\n\n8-Day Voyage\nJuly 9th – July 17th\, 2027 \nOceania Allura  \n(The newest ship in Oceania Cruises fleet\, delivered in July 2025) \n \nFounded in 2010 in St. Helena we focus on hand-crafted wines from unique vineyard sites around Napa and Northern California. MTGA officially stands for “Michael Todd Gustaf Anderson\,” honoring the three generations of winemakers in the Anderson family.  We produce an eclectic selection of wines that are meant for any occasion. \nWe hope you enjoy them \n \nYour World Included™* \nAll Specialty Dining\nShipboard Gratuities\nUnlimited WiFi \nplus choice of:\nComplimentary Wine & Beer\nOR $400 Shore Excursion Credit \nPLUS\, with our group you will recieve these additional benefits*: \n$300 Shipboard credit \nGroup Cocktail party and wine tastings \nGroup winemaker dinner \n*Amenities are per stateroom \n   
URL:https://www.cruisewinetravel.com/event/mtga-wines-mediterranean-cruise-2027/
LOCATION:Oceania Cruises ~ Oceania Allura
CATEGORIES:Wine & Food Cruises/Tours
ATTACH;FMTTYPE=image/jpeg:https://www.cruisewinetravel.com/wp-content/uploads/2024/11/allura.jpg
END:VEVENT
BEGIN:VEVENT
DTSTART;VALUE=DATE:20270711
DTEND;VALUE=DATE:20270719
DTSTAMP:20260422T155247
CREATED:20260105T190536Z
LAST-MODIFIED:20260105T190643Z
UID:12389-1815264000-1815955199@www.cruisewinetravel.com
SUMMARY:Grandfather Vineyards Burgundy & Provence Cruise 2027
DESCRIPTION:BOOK NOW:   Call 206-399-2138   |   Email amartindale@cruiseplanners.com\n\nCruise to Burgundy & Provence\nwith\nGRANDFATHER VINEYARDS\n \nJULY 11th\, 2027 – JULY 18th\, 2027 \nARLES TO LYON – 8 DAYS \nUNIWORLD – S.S. Catherine \n  \n\n \nEmbark on a captivating voyage along the Rhône and Saône\, where Burgundy and Provence reveal their world‑renowned wine\, cuisine\, and culture. Stroll the evocative streets of Arles immortalized by Van Gogh\, admire the grandeur of Avignon’s Palace of the Popes\, and join in the festive spirit of Bastille Day with fireworks in Viviers on July 14th. Conclude your journey in Beaune\, the heart of Burgundy\, savoring its celebrated wines. For those seeking adventure\, vineyard hikes in Tain l’Hermitage and cycling through Lyon add an active dimension\, all set against traditions as enduring as the grapevines that shape this storied region. \n \n\nYour Uniworld Cruise Includes: \nAll Meals Onboard \nUnlimited Beverages throughout the day including:\nwine\, beer\, spirits\, specialty coffee\, tea\, soft drinks\, and mineral water \nDaily Excursion \nGratuities \n\nThe S.S. Catherine\, one of Uniworld’s boutique “Super Ships\,” sails the Rhône in unmatched French elegance.\nChristened by legendary French actress Catherine Deneuve\, it features dazzling interiors\, curated art\, and unique touches like a Murano glass chandelier and onboard swimming pool surrounded by stunning mosaic tiles. \nWith intimate capacity and refined service\, it offers guests a floating French country house\nexperience through Burgundy and Provence. \n \n \n \nThis sailing is ideal for wine and art enthusiasts\, offering an immersive journey through\nthe Rhône and Burgundy regions with all‑inclusive luxury. \nA boutique‑sized ship ensures personalized service and comfort\, while the itinerary delivers rich cultural depth through history\,\ngastronomy\, and active experiences such as cycling and hiking. \nBook soon to benefit from 20% Early Booking Discount \nA 10% Deposit is required to secure your stateroom or suite \nCancellation Fee Schedule: \n120 days of more before trip – $250/pp\n119 – 90 days before trip – 25%\n89 – 60 days prior – 50%\n59 – 30 days prior – 75%\nLess than 30 days – 100% \n  \nWATCH S.S. CATHERINE VIDEO \nOptional 3-night Pre-Cruise Extension in Cassis: \n  \n \n\nStart your experience in style on the French Riviera with a three-day adventure to Cassis\, the “jewel of the water’s edge.”\nSunny\, scenic\, and situated right on the Mediterranean coast\, this beautiful fishing port is the ultimate Provençal getaway. \n\n\n3 nights at the Hotel les Roches Blanches (or similar) \nBreakfast daily\, 1 group dinner \nAll service charges\, taxes\, and porterage \nCassis walking tour \nVineyard tour with wine tasting \nEnglish-speaking expert \nTransfers throughout the extension are included \nAdditional details TBD \nEstimated Pricing: \n$3\,500 per person (for 2 guests). \nA single supplement will apply for solo guests (TBD). \nFlights: \nAirlines release schedules at approximately 11 months prior to travel.\nYou may purchase flights through the cruise line\, our 3rd party consolidator or book your own air. \nInsurance: \nTravel Insurance is strongly recommended for any international travel.\nWe will automatically provide quotes from Allianz when booking your trip.
URL:https://www.cruisewinetravel.com/event/grandfather-vineyards-burgundy-provence-cruise-2027/
LOCATION:Uniworld Boutique River Cruises ~ S.S. Catherine
CATEGORIES:Wine & Food Cruises/Tours
ATTACH;FMTTYPE=image/jpeg:https://www.cruisewinetravel.com/wp-content/uploads/2026/01/SS-Catherine-61764962605.jpg
END:VEVENT
BEGIN:VEVENT
DTSTART;VALUE=DATE:20280220
DTEND;VALUE=DATE:20280301
DTSTAMP:20260422T155247
CREATED:20251105T195644Z
LAST-MODIFIED:20251105T201417Z
UID:12375-1834617600-1835481599@www.cruisewinetravel.com
SUMMARY:Australian Wine Cruise 2028
DESCRIPTION:BOOK NOW:   Call 206-399-2138   |   Email amartindale@cruiseplanners.com\n\nAUSTRALIA UNCORKED!\nA 10-Day Southern Hemisphere Sailing\nRoundtrip from Sydney\nFebruary 20th – February 29th\, 2028\nSailing on the EDGE with Celebrity Cruises\n \n \nDeparting roundtrip from Sydney on February 20\, 2028\, this 10-day sailing blends modern luxury with curated access to some of the country’s most celebrated wine regions. With immersive stops in Hobart\, Adelaide\, and Melbourne\, guests will enjoy exclusive tastings\, vineyard visits\, and cool-climate varietals that define Australia’s premium wine scene.\n \nAdditional Details coming SOON!
URL:https://www.cruisewinetravel.com/event/australian-wine-cruise-2028/
LOCATION:Celebrity Cruises ~ Celebrity Edge
CATEGORIES:Wine & Food Cruises/Tours
ATTACH;FMTTYPE=image/jpeg:https://www.cruisewinetravel.com/wp-content/uploads/2025/11/australia.jpg
END:VEVENT
END:VCALENDAR