BEGIN:VCALENDAR
VERSION:2.0
PRODID:-//Martindale Travel and Tours - ECPv6.15.11//NONSGML v1.0//EN
CALSCALE:GREGORIAN
METHOD:PUBLISH
X-WR-CALNAME:Martindale Travel and Tours
X-ORIGINAL-URL:https://www.cruisewinetravel.com
X-WR-CALDESC:Events for Martindale Travel and Tours
REFRESH-INTERVAL;VALUE=DURATION:PT1H
X-Robots-Tag:noindex
X-PUBLISHED-TTL:PT1H
BEGIN:VTIMEZONE
TZID:UTC
BEGIN:STANDARD
TZOFFSETFROM:+0000
TZOFFSETTO:+0000
TZNAME:UTC
DTSTART:20200101T000000
END:STANDARD
END:VTIMEZONE
BEGIN:VEVENT
DTSTART;VALUE=DATE:20230813
DTEND;VALUE=DATE:20230821
DTSTAMP:20260422T222959
CREATED:20220930T175751Z
LAST-MODIFIED:20220930T175751Z
UID:12123-1691884800-1692575999@www.cruisewinetravel.com
SUMMARY:MMOB Goes Virgin In The Med! 2023
DESCRIPTION:BOOK NOW:   Call 206-399-2138   |   Email amartindale@cruiseplanners.com\n\n\nMeet Me On Board Goes Virgin in the Med\nAugust 13th\, 2023 \n7 Nights \nThe Irresistible Med\nBarcelona • Toulon • Marina di Carrara • Ajaccio • Olbia • Ibiza • Barcelona\n \nExperience the magic of the Med and its islands as you sail from Barcelona to the French Riviera. Explore the Tuscan countryside\, revel in uncharted Ajaccio time\, and get in a revitalizing Vitamin Sea-fueled day on board. With a finale overnight in Ibiza\, you’ll get why we call the Med irresistible. \nAlways included:\nAll Food\nFrom refined dining to relaxed casual\, all of our 20+ eateries \nfeaturing menus curated by Michelin star chefs are yours to enjoy. \n \nEssential Drinks\nStay hydrated with still and sparkling water\, non-pressed juices\, sodas\, teas and even drip coffee. \n \nWifi\nBrowse\, post\, and stay connected with wifi — whenever you want\, and wherever you are on the ship. \n \nTips\nWe’ve taken care (of taking care) of your servers\, so we cover the gratuities for your onboard experiences. \n \nGroup Fitness Classes\nYoga\, meditation\, cycling\, HIIT classes\, and more — all your group fitness classes are covered. \n \nShows & Entertainment\nDeveloped by the world’s most-talked-about producers and artists\, you have a ticket to all of our awe-inspiring shows.
URL:https://www.cruisewinetravel.com/event/mmob-goes-virgin-in-the-med-2023/
LOCATION:Virgin Voyages ~ Valiant Lady
CATEGORIES:LGBT+ Cruises/Tours
ATTACH;FMTTYPE=image/jpeg:https://www.cruisewinetravel.com/wp-content/uploads/2020/06/1510084023Virgin_Voyages_Cruise_Planners___BLOG_copy-1.jpg
END:VEVENT
BEGIN:VEVENT
DTSTART;VALUE=DATE:20220903
DTEND;VALUE=DATE:20220911
DTSTAMP:20260422T222959
CREATED:20200924T212929Z
LAST-MODIFIED:20220104T001746Z
UID:11744-1662163200-1662854399@www.cruisewinetravel.com
SUMMARY:Meet Me On Board Cruises On Celestyal In The Aegean Sea 2022
DESCRIPTION:BOOK NOW:   Call 206-399-2138   |   Email amartindale@cruiseplanners.com\n\n9.3.22\nMeet Me On Board Cruises on Celestyal’s “Celestyal Crystal” in the Agean Seas\n \nRound-Trip Athens (Piraeus)\, Greece \nIdyllic Aegean – 7 Nights All Inclusive\nAthens (Piraeus)\, Greece\, Thessaloniki\, Kusadasi\, Rhodes\, Crete (Heraklion)\, Santorini\, Mykonos\,  \nMilos\, Athens (Piraeus)\, Greece \nCome and be serenaded by the romance of the Aegean on this exciting new cruise. Visit the most enchanting Greek island destinations dotted around the Aegean Sea\, where culture\, history\, pristine beaches\, and fishing villages suspended in time all await. Voyage highlights include a Over-night stay in glamorous Santorini\, 24 hours in Mykonos\, a full day to explore Rhodes and a guaranteed Santorini sunset (weather permitting). \n \nThe Celestyal Crystal with her yacht like design and intimate feel makes her stand out from the crowd. The Crystal can fit neatly into smaller harbors and ports that bigger vessels cannot access. She is bright and airy and feels like home from home. The Crystal can be home to a maximum of 1\,200 guests on any one cruise being looked after by a crew of just over 400 ensuring a truly memorable personal experience. A stay onboard could not be more comfortable\, whether you are relaxing in a suite or stateroom or in the elegant restaurants\, bars and lounges\, spa\, fitness rooms and promenade deck. \n  \nSUITES AND STATEROOMS\nThe Crystal has 421 staterooms\, 43 junior Suites and 16 Suites. 53 of these are with private balconies. All Suites were refurbished in 2019. All suites and staterooms are en-suite\, with TV and have air conditioning. All suites have minibars. \nRESTAURANTS\nWhen it comes to dining\, the choices are varied. There are four venues\, depending on what you’re in the mood for. The Olympus serves fine Mediterranean cuisine on deck five. You can enjoy lobster and Mediterranean fish in the Specialty Restaurant on deck eight. For more casual dining head for the Leda Buffet on deck nine and then there is the Aura Grill\, tasty no fuss food on deck. \nBARS\nThe Crystal has ample choice of bars throughout the ship whether that is with a birds eye view up in the Horizons bar or tucked away at in the Thalassa Bar watching the last destination fade away into the distance. \nENTERTAINMENT & RELAXING\nEvening shows are performed in the comfortable Muses Lounge and the onboard casino comes with the latest slot machines from Las Vegas. There are massage rooms\, sauna\, gym and a beauty center. \nONBOARD SERVICES\nProfessional photographers are available to take photos and videos of those special moments. Our onboard duty-free shops are where you can find everything from souvenirs and clothes to tobacco and spirits. Wi-Fi is available for an additional charge. \n  \nPrice includes: \nCabin accommodation \nFull board (Breakfast – Lunch –Dinner) \nUnlimited Classic Drinks \nShore excursions (Kusadasi – Rhodes)* \nKUS-02 Ancient Ephesus through the ages – Hellenistic/Roman     \nRHO-01 Medieval Tour – Acropolis of Lindos and the citadel of the Knights  \n*included shore excursions cannot be removed or replaced  \nEntertainment on board \nComplimentary shuttle bus service in Mykonos \nPort charges security and other services (gratuities) \nClick here for the extra excursions that can be purchased in advance  \n  \n A deposit of $150 per person is required \nCancellation charges:  \n\n\n\n  \nGroup Cancellation Policy:\n\n\n\n\n\n\n\nFull refund of deposit\n120+ days prior to departure\n\n\n\n\nLoss of Deposit\n119 – 60 days prior to departure\n\n\n\n59-30 days prior to departure\n35% cancellation fees will apply on cruise fare\n\n\n29 days till departure date\n100% cancellation fees will apply on cruse fare\n\n\n\n Children (from 2 y.o. to 11 y.o ) : USD 429 GROSS rate per child provided a sharing cabin with two full paying adults\nInfants (3 months up to 2 y.o) pay only port charges and other security services USD 339 per person
URL:https://www.cruisewinetravel.com/event/meet-me-on-board-cruises-on-celestyal-in-the-aegean-sea-2022/
LOCATION:Celestyal Cruises ~ Celestyal Crystal
CATEGORIES:LGBT+ Cruises/Tours
ATTACH;FMTTYPE=image/jpeg:https://www.cruisewinetravel.com/wp-content/uploads/2020/09/celestyal_crystal.jpg
END:VEVENT
BEGIN:VEVENT
DTSTART;VALUE=DATE:20211120
DTEND;VALUE=DATE:20211128
DTSTAMP:20260422T222959
CREATED:20200706T212739Z
LAST-MODIFIED:20210114T191047Z
UID:11421-1637366400-1638057599@www.cruisewinetravel.com
SUMMARY:Panama Canal Royal Clipper Sailing 2021
DESCRIPTION:BOOK NOW:   Call 206-399-2138   |   Email amartindale@cruiseplanners.com\n\nBrand g Vacations is proud to offer an LGBT+\, inclusive\, guaranteed full ship charter cruise through the Panama Canal\, an experience unlike any you’ll find on any other cruise ship. \nRequest a PDF brochure here. \nWe have chartered the Royal Clipper\, the largest and only five-masted\, full-rigged sailing ship. With a complement of 42 sails\, the Royal Clipper is a splendid sight to behold. Experience the informal elegance\, culinary delights\, and gracious service in the intimacy of 227 LGBT+ friends. \nThis cruise departs from Panama City\, Panama. The main attraction here is\, of course\, the Panama Canal\, considered by many the eighth wonder of the world. The Panama Canal is a 48-mile-long corridor that connects the Atlantic Ocean (via the Caribbean Sea) to the Pacific Ocean.The canal cuts across the Isthmus of Panama and is a key conduit for international maritime trade. On your Panama Canal cruise\, join other passengers on the decks as a canal historian explains the workings of the locks and points out sights along the way. \nThe cruise ends in Oranjestad\, Aruba. The island is a surprising mix of soft\, white-sand beaches and desert; Dutch heritage and influences from nearby Venezuela. \nLaugh. Dance. Smile. Relax on this unforgettable adventure of the senses. \nInclusions \n\nAirport transfer from Panama City airport to ship\nDaytime transit of the Panama Canal\n7 nights cruise accommodation ( LGBT+\, Guaranteed Full Ship Charter)\nGourmet dining with all meals included during your cruise\nHouse wine\, all liquor\, beer and soft drinks\, except premium brands and Champagne\nAll-English language on board\nPost-cruise transfer to Oranjestad airport\n\nFlight Recommendations \n\nArrivals: You may arrive to Panama City\, Panama (PTY) at anytime on November 20th\, or prior. Transfers will be provided to the ship or optional pre-cruise program host hotel.\nDepartures: One post cruise transfer will be provided on November 27th. The ship is scheduled to arrive to Oranjestad\, Aruba at 8:00 AM and therefore we recommend flights departing Oranjestad (AUA) at 12:30 PM or later. We will transfer you from the Royal Clipper to the Oranjestad Airport or host post cruise hotel. Any further transfers will need to be arranged independently at your own expense.\n\nHighlights and Sightseeing \n\nThe Miraflores Locks museum and visitor center gives engineering enthusiasts a view of the locks in action\, as well as presents the history of the canal’s construction.\nDaytime transit of the Panama Canal\nSan Blas Islands\, an archipelago of more than 370 islands and cays of which fewer than 50 are inhabited\nCartagena\, Colombia a UNESCO World Heritage site\nRomantic Santa Marta\, the oldest city in Colombia\nA couple days at sea to feel the wind fill the sails and gently carry you from one gorgeous destination to the next\nAruba’s endless beaches
URL:https://www.cruisewinetravel.com/event/panama-canal-royal-clipper-sailing-2021/
LOCATION:Royal Clipper
CATEGORIES:LGBT+ Cruises/Tours
ATTACH;FMTTYPE=image/jpeg:https://www.cruisewinetravel.com/wp-content/uploads/2020/07/Cartegena-Hero-scaled-1.jpg
END:VEVENT
BEGIN:VEVENT
DTSTART;VALUE=DATE:20211107
DTEND;VALUE=DATE:20211120
DTSTAMP:20260422T222959
CREATED:20200706T212509Z
LAST-MODIFIED:20210114T190934Z
UID:11419-1636243200-1637366399@www.cruisewinetravel.com
SUMMARY:Amazon Cruise and Machu Picchu Expedition 2021
DESCRIPTION:BOOK NOW:   Call 206-399-2138   |   Email amartindale@cruiseplanners.com\n\nAll-inclusive Peruvian adventure including an LGBT+\, guaranteed full ship charter Amazon River cruise and culminating with a comprehensive Machu Picchu experience. \nRequest a PDF brochure here. \n\n \nMachu Picchu \n\nAs the face of travel continues to evolve\, so should the nature and value of enriching travel programs being offered. Peru is one of the most biodiverse countries in the world offering a unique combination of nature\, wildlife\, archaeology and cultural heritage. \nBrand g Vacations is pleased to introduce our second of two Amazon and Machu Picchu programs in 2021. The cruise portion is operated aboard the luxurious Delfin III\, which offers some of the most spacious accommodations along the Amazon River. This smartly designed\, 44-passenger\, colonial-style vessel\, provides the ultimate in comfort\, with five-star amenities. \nOur custom designed land program provides authentic\, educational\, and culturally-enriching encounters daily. Few trips offer as rich an experience of Peru’s diverse natural and cultural treasures. \n\n \nLocal villagers \n\nBegin in the cosmopolitan city of Lima\, known for its vibrant food scene. Fly to Iquitos where you will embark a luxury riverboat that takes you deep into the rain forest within the Amazon Basin. Home to a staggering array of wildlife\, the Peruvian Amazon boasts nearly a thousand species of birds alone. Enjoy fine wine and famous Peruvian cuisine while enjoying the company of your fellow LGBT travelers. After disembarkation\, we will continue on to the Sacred Valley near the Inca capitol of Cusco. From here\, we board the Sacred Valley train for a scenic journey to Machu Picchu\, the mystical stone city built by the Incas in the 15th century. Afterwards return to Cusco\, where you’ll enjoy two luxurious nights at the centrally- located Palacio del Inka hotel and guided tours of the most significant Inca sites before departing for your flight home. \nIt’s the perfect combination of inspiring places and rich history in the comfort of an all-gay environment. Virtually all-inclusive rates starting from $5\,799 per person. \n\n \nAmazon River\, Peru \n\nInclusions \n\n2 nights hotel accommodations in Lima including welcome reception and daily breakfast.\nGuided tour of Lima including welcome lunch.\nDomestic flight from Lima to Iquitos\, the gateway to the Amazon.\n4 night Amazon cruise including all meals.(Guaranteed all-LGBT+ charter.)\nCruise includes local pisco-based cocktails\, local beers\, and local sodas with lunch and dinner as well as house wine with dinner.\nAll excursions during cruise.\nDomestic flights from Iquitos to Cusco.\nTransfer to Sacred Valley.\n3 nights hotel accommodations in the Sacred Valley including daily breakfast\, one lunch and one dinner.\nGuided tours in the Sacred Valley.\nPeru Rail Sacred Valley train to Machu Picchu including lunch.\n2 visits to Machu Picchu.\nOne night hotel accommodation in Machu Picchu village including breakfast and dinner.\nPeru Rail Vista Dome train from Machu Picchu to Ollantaytambo and motor coach to Cusco including gourmet packed lunch.\n2 nights hotel accommodation in Cusco\, including breakfast\, one dinner and one lunch.\nHalf day city tour of Cusco and half day tour of the the Sacsayhuaman fortress.\nLunches and dinners on land include: two glasses of local beer\, house wine or soft drinks.\n\nHighlights and Sightseeing \n\nLima: sightseeing with a local guide; visit Archbishop’s Palace\, Government Palace\, San Francisco Monastery and Larco Herrara Museum.\nIquitos: visit the Manatee Rescue Center.\nCruise: 4 night cruise in a deluxe\, outside suite cruising the Peruvian Amazon River aboard the Delphin III. Welcome cocktail & dinner; guided sightseeing each day with a local naturalist by skiff boats during the day and evening; native village visit.\nSacred Valley: visit Ollantaytambo with its huge Incan fortress rising from the edge of town.\nMachu Picchu: board the train for the scenic journey to Aguas Calientes; sightseeing of the ruins with a local guide.\nCusco: sightseeing with visits to Santo Domingo Cathedral\, Sacsayhuaman fortress and the Pre-Columbian Art Museum.\n\nFlight Recommendations \nInternational flights are not included. Please use these guidelines when booking your flights: \n\nYou should schedule your flights to arrive to Lima (LIM) by November 7\, 2021. The first scheduled activity will be a welcome reception at approximately 5:30pm.\nYou should plan your flight home from Cusco (CUZ) on November 19\, 2021 at 5:00pm or later (most flights connect via Lima). It may be easiest to book a round trip Lima flight and purchase a separate one-way ticket from Cusco to Lima to connect with your departure flight.
URL:https://www.cruisewinetravel.com/event/amazon-cruise-and-machu-picchu-expedition-2021/
LOCATION:Delfin III
CATEGORIES:LGBT+ Cruises/Tours
ATTACH;FMTTYPE=image/jpeg:https://www.cruisewinetravel.com/wp-content/uploads/2020/07/Photo-Apr-08-5-49-47-PM-1.jpg
END:VEVENT
BEGIN:VEVENT
DTSTART;VALUE=DATE:20211014
DTEND;VALUE=DATE:20211027
DTSTAMP:20260422T222959
CREATED:20200706T212332Z
LAST-MODIFIED:20210114T190818Z
UID:11416-1634169600-1635292799@www.cruisewinetravel.com
SUMMARY:Vietnam and Cambodia Mekong River Cruise 2021
DESCRIPTION:BOOK NOW:   Call 206-399-2138   |   Email amartindale@cruiseplanners.com\n\nWe invite you to join Brand g Vacations for a 13-day\, LGBT+\, all-inclusive\, guaranteed full ship charter\, featuring the mighty Mekong River and the Temples of Angkor Wat.  \nRequest a PDF brochure here. \nThere can be no more striking cultural contrast than tranquil Cambodia and bustling Vietnam. From the diverse countryside of Cambodia to the Mekong Delta\, so rich in human life and endeavor\, you’ll discover two countries\, two cultures\, and two ways of life linked by one river\, the Mekong. \n \nJoin Brand g on a comprehensive 13-day journey through the heart of Cambodia and Vietnam\, featuring a seven-night\, all-gay cruise charter along the mighty Mekong River. Cruise aboard the all-suite\, luxurious Mekong Jewel\, specially built to ply the Mekong River from Kampong Cham\, Cambodia to Ho Chi Minh City. Embracing an elegant French-colonial design similar to the many homes that once lined the streets of old Saigon\, she boasts spacious suites from 323 square feet up to an expansive 915 square feet in size. From here\, you will enjoy all the wonders the Mekong has to offer in sophisticated\, yet comfortable style. With never more than 24 guests per expert guide\, you will enjoy enriching lectures\, a comprehensive series of well-planned excursions\, and most meals and beverages! Also included is a three-night stay in Siem Reap including an in-depth visit to the UNESCO World Heritage site of Angkor Wat\, and a two-night stay in bustling Ho Chi Minh City (formerly Saigon)\, each featuring five-star\, centrally-located hotels. \n \nDuring the cruise you’ll also enjoy complimentary beverages including locally-produced beer\, alcoholic beverages\, and soft drinks as well as house wines with dinner. Dine on European cuisine and regional specialties infused with flavors from Asia’s celebrated culinary tradition. \nWith just 34 custom-designed suites\, space is limited. To book\, contact Brand g Vacations or your travel professional today!” \nInclusions \n\n3 nights deluxe hotel accommodations in Siem Reap\, including daily breakfast\, three lunches and one dinner\n7-night cruise including all meals\n2 nights deluxe hotel accommodations in Ho Chi Minh City\, including daily breakfast\, one lunch and one dinner\nCruise includes free-flowing local spirits\, house wines (wines with dinner only) and locally-produced beer and soft drinks\nDaily shore excursions and touring on both land and cruise\n\nHighlights \n\nVisit the 12th century Angkorian temple complex of Wat Nokor Bachey\nGlide in wooden sampans to the historic An Kiet House and gardens in Cai Be\, Vietnam\nRide a Vietnamese tuk-tuk\, or xe loi\, to a family-owned mat weaving workshop\nTake a cyclo tour of Phnom Penh\, including the Royal Palace\, Throne Hall\, Moonlight Pavilion\, and the National Museum collection of Angkorian artifacts\nSee Phnom Penh’s famous Silver Pagoda\, home of Cambodia’s Emerald Buddha and the diamond-encrusted Maitreya Buddha\nFrom Phnom Pehn travel to Choeung Ek and see the Khmer Rouge Killing Fields\, the memorial stupa\, and Tuol Sleng (S-21 Prison)\nTour a local school in the village of Wat Hanchey and receive a traditional Buddhist water blessing from the monks at the local monastery\nSee Kampong Cham’s Phnom Pros (Man Hill)\, Phnom Srei (Woman Hill)\, the 33-foot long reclining Buddha\, and the 42-foot tall preaching Buddha
URL:https://www.cruisewinetravel.com/event/vietnam-and-cambodia-mekong-river-cruise-2021/
LOCATION:Mekong Jewel
CATEGORIES:LGBT+ Cruises/Tours
ATTACH;FMTTYPE=image/jpeg:https://www.cruisewinetravel.com/wp-content/uploads/2020/07/cambodia-hero.jpg
END:VEVENT
BEGIN:VEVENT
DTSTART;VALUE=DATE:20211005
DTEND;VALUE=DATE:20211018
DTSTAMP:20260422T222959
CREATED:20200706T212126Z
LAST-MODIFIED:20210114T190705Z
UID:11412-1633392000-1634515199@www.cruisewinetravel.com
SUMMARY:Scotland’s Royal Majesty Cruise and Exploration 2021
DESCRIPTION:BOOK NOW:   Call 206-399-2138   |   Email amartindale@cruiseplanners.com\n\nWe invite you to join Brand g Vacations for an LGBT+\, inclusive\, guaranteed full ship charter\, exploring Scotland’s Royal Majesty.  \nDue to complications connected to the COVID-19 pandemic we have rescheduled our June 2021 Scotland program to this new date. Previously booked guests will have first priority to move to the new program and then any remaining space will be offered to those already on the wait list. If you would like to be added to the wait list\, please contact us. \nRequest a PDF Brochure here. \n  \n \nThis tour offers a fascinating insight into Scotland’s history and its Royal connections past and present with unparalleled access to the former and current homes of the Her Majesty The Queen and Her Majesty The Queen Mother. Following two nights in Inverness\, enjoy a breathtaking 7-day luxury cruise from Fort Augustus to Inverness on board the Lord of the Glens. See Scotland’s famous Autumnal scenery and visit the islands of Eigg\, Mull\, Iona and Skye as well as the towns of Fort William and Laggan and sail on famous Loch Ness. Following the cruise\, our exploration continues with three nights in Edinburgh. Here we tour Edinburgh Castle\, Holyrood Palace while taking in the famous Scottish atmosphere and culture. Optional bookable tours are available to Roslin Chapel (made famous in the Da Vinci Code) or historic Stirling Castle. Our last night ends with a Royal Invitation to a luxury State farewell dinner onboard HM The Queen’s former floating home\, the Royal Yacht Britannia. \n  \n \nPackage Includes \n\nWelcome reception in Inverness\nTraditional Highland Dinner in Inverness with local entertainment\n2 nights hotel accommodation in Inverness including breakfast\nLunch at HRH Prince Charles’s Rothesay Arms Hotel\n7 nights deluxe cruise accommodation\nGourmet dining with all meals included during your cruise\nFree flowing house wine and local beer with lunch and dinner during cruise\nHosted receptions throughout the cruise\nLunch at HM The Queen Mother’s former home Glamis Castle\nThree nights deluxe accommodation in The Hilton Carlton Edinburgh.\nExclusive lunch on the Royal Mile\, Edinburgh\nOptional tours of Stirling Castle or Roslin Chapel\nFormal state dining on the Royal Yacht Britannia\, HM The Queen’s former floating home.\n\nTouring Highlights  \n\nSee Scone Palace home Scotland’s ancient founding fathers\, both pagan and Christian.\nView the spectacular Cairngorms and take in the breathtaking scenery of Scotland’s wilderness\nVisit Culloden  where “Bonnie” Prince Charlie’s Jacobite forces were defeated in 1746\nTake the West Highland railway line over the renowned viaduct to beautiful Glenfinnan\, made famous in the Harry Potter films\nEnjoy Loch Ness and search for the world-famous Loch Ness Monster “Nessie” and take in the romantic ruins of Urquhart Castle\nSail Neptune’s Staircase in the shadow of Ben Nevis\, Great Britain’s highest mountain\nVisit Eigg where you can get a sense of what life is like for the roughly 90 people who live on this island community\nVisit the World Heritage site\, the Isle of Iona the last resting place of some 50 Scottish Kings and where St. Columba introduced Christianity to Britain and home to Duart Castle\nVisit Tobermory on the Isle of Mull\nTour Glamis Castle\, former home of HM The Queen Mother and enjoy a private tea in the kitchen\nVisit Holyrood Palace\, HM The Queen’s formal home in Edinburgh and view the Queen’s gallery\nEnjoy a guided tour of the Royal Mile and Edinburgh Castle\nExplore the Royal Yacht Britannia and enjoy a Luxury State Dinner
URL:https://www.cruisewinetravel.com/event/scotlands-royal-majesty-cruise-and-exploration-2021/
LOCATION:Lord of the Glens
CATEGORIES:LGBT+ Cruises/Tours
ATTACH;FMTTYPE=image/jpeg:https://www.cruisewinetravel.com/wp-content/uploads/2020/07/scotland-hero2.jpg
END:VEVENT
BEGIN:VEVENT
DTSTART;VALUE=DATE:20210904
DTEND;VALUE=DATE:20210914
DTSTAMP:20260422T222959
CREATED:20200706T211926Z
LAST-MODIFIED:20210114T190516Z
UID:11408-1630713600-1631577599@www.cruisewinetravel.com
SUMMARY:Bucharest to Budapest Danube River Cruise 2021
DESCRIPTION:BOOK NOW:   Call 206-399-2138   |   Email amartindale@cruiseplanners.com\n\nLower Danube riverboat cruise featuring the “Iron Gates”\, overnights in Belgrade and Budapest\, plus 2 pre-cruise nights in Bucharest!  \nRequest a PDF brochure here. \n\n \nBucharest\, Romania \n\nBrand g Vacations is proud to offer a unique river cruise experience unlike any you’ll find on the rivers of Europe today. With this all-LGBT+ full cruise charter on the Amadeus Queen\, you will be pampered by a crew of forty in an atmosphere of total relaxation. We’ve created an itinerary that includes four countries (Romania\, Serbia\, Bulgaria and Hungary) that for decades were hidden behind the Iron Curtain. \nExplore the undiscovered beauty of Eastern Europe as we begin in Bucharest\, the legendary Romanian capital full of history and tradition. Sail from Giurgiu through the “Iron Gates”\, the imposing gorge where the Danube breaks through the Carpathian Mountains. Enjoy an overnight in the revitalized Belgrade before continuing on to the vibrant Hungarian city of Budapest. \n\nInclusions \n\nTwo nights in historic Bucharest\nHalf day guided tour including the highlights of Bucharest\nTour of the imposing and ornate parliament of Bucharest and sumptuous local lunch\nGuaranteed all-LGBT+ charter\n7 Nights Cruise Accommodation\nComplimentary beer\, wine\, spirits and non-alcoholic beverages throughout the cruise\nDining: all meals included during your cruise\nServices of an experienced cruise director throughout the cruise\nComplimentary shore excursions offered daily\nUse of state-of-the-art audio headsets for all excursions\nBrand g signature entertainment\nArrival and Departure airport transfers in Bucharest(OTP) and Budapest(BUD)\n\nHighlights and Sightseeing \n\nItinerary with stops in four countries\nExplores the capital city of Romania\, also known as the “Paris of the East”\nSail through the “Iron Gates”\, one of the most stunning gorges in Europe\nVisit to the historic Kalemegdan fortress in Belgrade\nOplenac – the famous St. George’s Church\, which is the final resting place of most of the Serbian royal family\nSt. Matthew’s Church and the famous Fisherman’s Bastion\nSzéchenyi Chain Bridge – the twin-towered bridge opened in 1849 and was the first bridge linking Buda and Pest together\nOvernight on-board on the gorgeous waterfront in Budapest\n\nFlight Recommendations \n\nArrivals for the main program: you may arrive at anytime on September 4th\, or prior. Transfers will be provided from the Bucharest International Airport (OTP) to the host hotel. Your first event will be a welcome cocktail reception at approximately 5:30pm. Please contact us to discuss your travel plans and we will advise you regarding availability of non-airport transfers.\nArrivals for the pre-program add-on to the castles district:you may arrive at anytime on September 2nd or prior. Transfers will be provided from the Bucharest International Airport (OTP) to the host hotel. No official programming will be scheduled prior to 5:30pm on the 2nd. Please contact us to discuss your travel plans and we will advise you regarding availability of non-airport transfers.\nDepartures: Post cruise transfers will be provided on September 13th anytime. The ship will be docked in Budapest all night. All guests must disembark by approximately 10:00AM. We will transfer you from the ship to the Budapest Airport (BUD)\, Please contact us to discuss your travel plans and we will advise you regarding availability of non-airport transfers.
URL:https://www.cruisewinetravel.com/event/bucharest-to-budapest-danube-river-cruise-2021/
LOCATION:MS Amadeus Queen
CATEGORIES:LGBT+ Cruises/Tours
ATTACH;FMTTYPE=image/jpeg:https://www.cruisewinetravel.com/wp-content/uploads/2020/07/July-17-2014.jpg
END:VEVENT
END:VCALENDAR