BEGIN:VCALENDAR
VERSION:2.0
PRODID:-//Martindale Travel and Tours - ECPv6.15.11//NONSGML v1.0//EN
CALSCALE:GREGORIAN
METHOD:PUBLISH
X-WR-CALNAME:Martindale Travel and Tours
X-ORIGINAL-URL:https://www.cruisewinetravel.com
X-WR-CALDESC:Events for Martindale Travel and Tours
REFRESH-INTERVAL;VALUE=DURATION:PT1H
X-Robots-Tag:noindex
X-PUBLISHED-TTL:PT1H
BEGIN:VTIMEZONE
TZID:UTC
BEGIN:STANDARD
TZOFFSETFROM:+0000
TZOFFSETTO:+0000
TZNAME:UTC
DTSTART:20200101T000000
END:STANDARD
END:VTIMEZONE
BEGIN:VEVENT
DTSTART;VALUE=DATE:20211005
DTEND;VALUE=DATE:20211018
DTSTAMP:20260426T010202
CREATED:20200706T212126Z
LAST-MODIFIED:20210114T190705Z
UID:11412-1633392000-1634515199@www.cruisewinetravel.com
SUMMARY:Scotland’s Royal Majesty Cruise and Exploration 2021
DESCRIPTION:BOOK NOW:   Call 206-399-2138   |   Email amartindale@cruiseplanners.com\n\nWe invite you to join Brand g Vacations for an LGBT+\, inclusive\, guaranteed full ship charter\, exploring Scotland’s Royal Majesty.  \nDue to complications connected to the COVID-19 pandemic we have rescheduled our June 2021 Scotland program to this new date. Previously booked guests will have first priority to move to the new program and then any remaining space will be offered to those already on the wait list. If you would like to be added to the wait list\, please contact us. \nRequest a PDF Brochure here. \n  \n \nThis tour offers a fascinating insight into Scotland’s history and its Royal connections past and present with unparalleled access to the former and current homes of the Her Majesty The Queen and Her Majesty The Queen Mother. Following two nights in Inverness\, enjoy a breathtaking 7-day luxury cruise from Fort Augustus to Inverness on board the Lord of the Glens. See Scotland’s famous Autumnal scenery and visit the islands of Eigg\, Mull\, Iona and Skye as well as the towns of Fort William and Laggan and sail on famous Loch Ness. Following the cruise\, our exploration continues with three nights in Edinburgh. Here we tour Edinburgh Castle\, Holyrood Palace while taking in the famous Scottish atmosphere and culture. Optional bookable tours are available to Roslin Chapel (made famous in the Da Vinci Code) or historic Stirling Castle. Our last night ends with a Royal Invitation to a luxury State farewell dinner onboard HM The Queen’s former floating home\, the Royal Yacht Britannia. \n  \n \nPackage Includes \n\nWelcome reception in Inverness\nTraditional Highland Dinner in Inverness with local entertainment\n2 nights hotel accommodation in Inverness including breakfast\nLunch at HRH Prince Charles’s Rothesay Arms Hotel\n7 nights deluxe cruise accommodation\nGourmet dining with all meals included during your cruise\nFree flowing house wine and local beer with lunch and dinner during cruise\nHosted receptions throughout the cruise\nLunch at HM The Queen Mother’s former home Glamis Castle\nThree nights deluxe accommodation in The Hilton Carlton Edinburgh.\nExclusive lunch on the Royal Mile\, Edinburgh\nOptional tours of Stirling Castle or Roslin Chapel\nFormal state dining on the Royal Yacht Britannia\, HM The Queen’s former floating home.\n\nTouring Highlights  \n\nSee Scone Palace home Scotland’s ancient founding fathers\, both pagan and Christian.\nView the spectacular Cairngorms and take in the breathtaking scenery of Scotland’s wilderness\nVisit Culloden  where “Bonnie” Prince Charlie’s Jacobite forces were defeated in 1746\nTake the West Highland railway line over the renowned viaduct to beautiful Glenfinnan\, made famous in the Harry Potter films\nEnjoy Loch Ness and search for the world-famous Loch Ness Monster “Nessie” and take in the romantic ruins of Urquhart Castle\nSail Neptune’s Staircase in the shadow of Ben Nevis\, Great Britain’s highest mountain\nVisit Eigg where you can get a sense of what life is like for the roughly 90 people who live on this island community\nVisit the World Heritage site\, the Isle of Iona the last resting place of some 50 Scottish Kings and where St. Columba introduced Christianity to Britain and home to Duart Castle\nVisit Tobermory on the Isle of Mull\nTour Glamis Castle\, former home of HM The Queen Mother and enjoy a private tea in the kitchen\nVisit Holyrood Palace\, HM The Queen’s formal home in Edinburgh and view the Queen’s gallery\nEnjoy a guided tour of the Royal Mile and Edinburgh Castle\nExplore the Royal Yacht Britannia and enjoy a Luxury State Dinner
URL:https://www.cruisewinetravel.com/event/scotlands-royal-majesty-cruise-and-exploration-2021/
LOCATION:Lord of the Glens
CATEGORIES:LGBT+ Cruises/Tours
ATTACH;FMTTYPE=image/jpeg:https://www.cruisewinetravel.com/wp-content/uploads/2020/07/scotland-hero2.jpg
END:VEVENT
BEGIN:VEVENT
DTSTART;VALUE=DATE:20211014
DTEND;VALUE=DATE:20211027
DTSTAMP:20260426T010202
CREATED:20200706T212332Z
LAST-MODIFIED:20210114T190818Z
UID:11416-1634169600-1635292799@www.cruisewinetravel.com
SUMMARY:Vietnam and Cambodia Mekong River Cruise 2021
DESCRIPTION:BOOK NOW:   Call 206-399-2138   |   Email amartindale@cruiseplanners.com\n\nWe invite you to join Brand g Vacations for a 13-day\, LGBT+\, all-inclusive\, guaranteed full ship charter\, featuring the mighty Mekong River and the Temples of Angkor Wat.  \nRequest a PDF brochure here. \nThere can be no more striking cultural contrast than tranquil Cambodia and bustling Vietnam. From the diverse countryside of Cambodia to the Mekong Delta\, so rich in human life and endeavor\, you’ll discover two countries\, two cultures\, and two ways of life linked by one river\, the Mekong. \n \nJoin Brand g on a comprehensive 13-day journey through the heart of Cambodia and Vietnam\, featuring a seven-night\, all-gay cruise charter along the mighty Mekong River. Cruise aboard the all-suite\, luxurious Mekong Jewel\, specially built to ply the Mekong River from Kampong Cham\, Cambodia to Ho Chi Minh City. Embracing an elegant French-colonial design similar to the many homes that once lined the streets of old Saigon\, she boasts spacious suites from 323 square feet up to an expansive 915 square feet in size. From here\, you will enjoy all the wonders the Mekong has to offer in sophisticated\, yet comfortable style. With never more than 24 guests per expert guide\, you will enjoy enriching lectures\, a comprehensive series of well-planned excursions\, and most meals and beverages! Also included is a three-night stay in Siem Reap including an in-depth visit to the UNESCO World Heritage site of Angkor Wat\, and a two-night stay in bustling Ho Chi Minh City (formerly Saigon)\, each featuring five-star\, centrally-located hotels. \n \nDuring the cruise you’ll also enjoy complimentary beverages including locally-produced beer\, alcoholic beverages\, and soft drinks as well as house wines with dinner. Dine on European cuisine and regional specialties infused with flavors from Asia’s celebrated culinary tradition. \nWith just 34 custom-designed suites\, space is limited. To book\, contact Brand g Vacations or your travel professional today!” \nInclusions \n\n3 nights deluxe hotel accommodations in Siem Reap\, including daily breakfast\, three lunches and one dinner\n7-night cruise including all meals\n2 nights deluxe hotel accommodations in Ho Chi Minh City\, including daily breakfast\, one lunch and one dinner\nCruise includes free-flowing local spirits\, house wines (wines with dinner only) and locally-produced beer and soft drinks\nDaily shore excursions and touring on both land and cruise\n\nHighlights \n\nVisit the 12th century Angkorian temple complex of Wat Nokor Bachey\nGlide in wooden sampans to the historic An Kiet House and gardens in Cai Be\, Vietnam\nRide a Vietnamese tuk-tuk\, or xe loi\, to a family-owned mat weaving workshop\nTake a cyclo tour of Phnom Penh\, including the Royal Palace\, Throne Hall\, Moonlight Pavilion\, and the National Museum collection of Angkorian artifacts\nSee Phnom Penh’s famous Silver Pagoda\, home of Cambodia’s Emerald Buddha and the diamond-encrusted Maitreya Buddha\nFrom Phnom Pehn travel to Choeung Ek and see the Khmer Rouge Killing Fields\, the memorial stupa\, and Tuol Sleng (S-21 Prison)\nTour a local school in the village of Wat Hanchey and receive a traditional Buddhist water blessing from the monks at the local monastery\nSee Kampong Cham’s Phnom Pros (Man Hill)\, Phnom Srei (Woman Hill)\, the 33-foot long reclining Buddha\, and the 42-foot tall preaching Buddha
URL:https://www.cruisewinetravel.com/event/vietnam-and-cambodia-mekong-river-cruise-2021/
LOCATION:Mekong Jewel
CATEGORIES:LGBT+ Cruises/Tours
ATTACH;FMTTYPE=image/jpeg:https://www.cruisewinetravel.com/wp-content/uploads/2020/07/cambodia-hero.jpg
END:VEVENT
END:VCALENDAR