BEGIN:VCALENDAR
VERSION:2.0
PRODID:-//Martindale Travel and Tours - ECPv6.15.11//NONSGML v1.0//EN
CALSCALE:GREGORIAN
METHOD:PUBLISH
X-ORIGINAL-URL:https://www.cruisewinetravel.com
X-WR-CALDESC:Events for Martindale Travel and Tours
REFRESH-INTERVAL;VALUE=DURATION:PT1H
X-Robots-Tag:noindex
X-PUBLISHED-TTL:PT1H
BEGIN:VTIMEZONE
TZID:UTC
BEGIN:STANDARD
TZOFFSETFROM:+0000
TZOFFSETTO:+0000
TZNAME:UTC
DTSTART:20220101T000000
END:STANDARD
END:VTIMEZONE
BEGIN:VEVENT
DTSTART;VALUE=DATE:20230927
DTEND;VALUE=DATE:20231005
DTSTAMP:20260424T100918
CREATED:20230217T190329Z
LAST-MODIFIED:20230217T190403Z
UID:12175-1695772800-1696463999@www.cruisewinetravel.com
SUMMARY:Rocky Mountaineer First Passage To The West - Westbound 2023
DESCRIPTION:BOOK NOW:   Call 206-399-2138   |   Email amartindale@cruiseplanners.com\n\nWelcome to the First Passage to the West – Westbound registration!\nSeptember 27th\, 2023 \n \n \nTrip Includes: \n2 days onboard Rocky Mountaineer in Gold Leaf Service \n7 nights’ hotel accommodations \nGourmet meals & unlimited beverages onboard Rocky Mountaineer \nDaily breakfast at hotels \nOne group lunch \nNational Parks Pass \nBanff Gondola \nAll tours and transfers specified in the itinerary \nLuggage handling/porterage at the hotels and train stations \nPrepaid gratuities for onboard hosts \nItinerary: \nDay 1 – Calgary Overnight at Hotel Arts \nDay 2 – Calgary to Banff – Overnight Banff Caribou Lodge & Spa \nDay 3 – Banff – Full day tour of Banff & Yoho National Park – Lunch at Chateau Lake Louise – Overnight Banff Caribou Lodge & Spa \nDay 4 – Banff – Free day to explore Banff \nDay 5 – Board Rocky Mountaineer Train – Gold Leaf Service – Banff to Kamloops – Overnight in Kamloops \nDay 6 – Board Rocky Mountaineer Train – Gold Leaf Service – Kamloops to Vancouver – Overnight Georgian Court Hotel Vancouver \nDay 7 – Vancouver – Sightseeing tour of Vancouver’s North Shore\, Capilano Suspension Bridge and Grouse Mountain Skyride – Overnight Georgian Court \nDay 8 – Vacation ends
URL:https://www.cruisewinetravel.com/event/rocky-mountaineer-first-passage-to-the-west-westbound-2023/
LOCATION:Rocky Mountaineer
CATEGORIES:Group Cruises/Tours
ATTACH;FMTTYPE=image/jpeg:https://www.cruisewinetravel.com/wp-content/uploads/2023/02/Rocky_Mountaineer_rail.jpg
END:VEVENT
END:VCALENDAR