BEGIN:VCALENDAR
VERSION:2.0
PRODID:-//Martindale Travel and Tours - ECPv6.15.11//NONSGML v1.0//EN
CALSCALE:GREGORIAN
METHOD:PUBLISH
X-ORIGINAL-URL:https://www.cruisewinetravel.com
X-WR-CALDESC:Events for Martindale Travel and Tours
REFRESH-INTERVAL;VALUE=DURATION:PT1H
X-Robots-Tag:noindex
X-PUBLISHED-TTL:PT1H
BEGIN:VTIMEZONE
TZID:UTC
BEGIN:STANDARD
TZOFFSETFROM:+0000
TZOFFSETTO:+0000
TZNAME:UTC
DTSTART:20220101T000000
END:STANDARD
END:VTIMEZONE
BEGIN:VEVENT
DTSTART;VALUE=DATE:20230806
DTEND;VALUE=DATE:20230814
DTSTAMP:20260424T112232
CREATED:20220404T171552Z
LAST-MODIFIED:20220404T172123Z
UID:12066-1691280000-1691971199@www.cruisewinetravel.com
SUMMARY:Brilliant Bordeaux With Uniworld 2023
DESCRIPTION:BOOK NOW:   Call 206-399-2138   |   Email amartindale@cruiseplanners.com\n\nBrilliant Bordeaux with Uniworld\n \n August 6th\, 2023 \nDownload Detailed Flyer \n  \n \nACCOMMODATIONS\n7-night cruise in a riverview stateroom on the breathtaking S.S. Bon Voyage \nLavishly appointed riverview staterooms and suites have handcrafted Savoir® Beds of England\, high thread count 100% Egyptian cotton sheets and European duvets\, and a menu of pillow options \nFree Internet and Wi-Fi access \n \nEXPERIENCES \n1 country: France \n3 UNESCO World Heritage sites \nCaptivating onboard local entertainment \nCultural enrichment\, including Signature Lectures \nServices of an experienced Uniworld Cruise Manager \nAll transfers on arrival and departure days \nGratuities for onboard personnel (ship staff\, crew\, Cruise/Tour Manager) are included during the cruise/tour \nExclusive Connoisseur Collection on select summer departures \nDownload Day-To-Day Itinerary \n \nDINING \nAll meals onboard\, prepared using the finest and freshest ingredients\n7 breakfasts\, 5 lunches\, 7 dinners\nCaptain’s Welcome and Farewell Receptions\nWelcome and Farewell Gala Dinners\nUnlimited beverages onboard\, including fine wine\, beer\, spirits\, specialty coffee and tea\, soft drinks and mineral water \n \nEXCURSIONS \n6 days of excursions\, including “Choice Is Yours” options\, all fully hosted by English-speaking local experts \nGuided “Let’s Go\,” “Do as the Locals Do” and “Village Day” programs \nState-of-the-art Quietvox portable audio-headset system on all excursions \nUse of bicycles and Nordic walking sticks
URL:https://www.cruisewinetravel.com/event/brilliant-bordeaux-with-uniworld-2023/
LOCATION:Uniworld Boutique River Cruises ~ S.S. Bon Voyage
CATEGORIES:Group Cruises/Tours
ATTACH;FMTTYPE=image/jpeg:https://www.cruisewinetravel.com/wp-content/uploads/2022/04/bordeaux_uniworld.jpg
END:VEVENT
END:VCALENDAR