BEGIN:VCALENDAR
VERSION:2.0
PRODID:-//Martindale Travel and Tours - ECPv6.15.11//NONSGML v1.0//EN
CALSCALE:GREGORIAN
METHOD:PUBLISH
X-WR-CALNAME:Martindale Travel and Tours
X-ORIGINAL-URL:https://www.cruisewinetravel.com
X-WR-CALDESC:Events for Martindale Travel and Tours
REFRESH-INTERVAL;VALUE=DURATION:PT1H
X-Robots-Tag:noindex
X-PUBLISHED-TTL:PT1H
BEGIN:VTIMEZONE
TZID:UTC
BEGIN:STANDARD
TZOFFSETFROM:+0000
TZOFFSETTO:+0000
TZNAME:UTC
DTSTART:20260101T000000
END:STANDARD
END:VTIMEZONE
BEGIN:VEVENT
DTSTART;VALUE=DATE:20270602
DTEND;VALUE=DATE:20270612
DTSTAMP:20260423T080857
CREATED:20251105T195014Z
LAST-MODIFIED:20260302T174841Z
UID:12373-1811894400-1812758399@www.cruisewinetravel.com
SUMMARY:Cruise The Mediterranean With The San Francisco Wine School 2027
DESCRIPTION:BOOK NOW:   Call 206-399-2138   |   Email amartindale@cruiseplanners.com\n\nCruise the Mediterranean with the San Francisco Wine School\n \nBarcelona to Rome \nJune 2nd – June 11th\, 2027 \n9 Days \nSailing on Oceania Cruises NEW Allura \n \nSpecial Offer\nYour World Included™\nAll Specialty Dining\nShipboard Gratuities\nUnlimited WiFi \nplus choice of:\nComplimentary Wine & Beer\nor $400 Shore Excursion Credit \nExclusive Amenities for our group \n$250 shipboard credit per stateroom \nPrivate wine tastings/seminars and a group wine dinner with Master Sommelier\, David Glancy \n \nDeposit of $500/cabin is due to reserve your stateroom \nCancellation Policy \nThe following cancellation charges will be assessed for all cancellations received prior to departure up to the scheduled time of departure. \n181 days or more prior to departure $150.00 per person \n180 to 151 days prior to departure $500.00 per person \n150 to 121 days prior to departure 25% of full fare \n120 to 91 days prior to departure 50% of full fare \n90 to 61 days prior to departure 75% of full fare \n60 days or less prior to departure 100% of full fare
URL:https://www.cruisewinetravel.com/event/cruise-the-mediterranean-with-the-san-francisco-wine-school-2027/
LOCATION:Oceania Cruises ~ Oceania Allura
CATEGORIES:Wine & Food Cruises/Tours
ATTACH;FMTTYPE=image/jpeg:https://www.cruisewinetravel.com/wp-content/uploads/2024/11/allura.jpg
END:VEVENT
END:VCALENDAR