BEGIN:VCALENDAR
VERSION:2.0
PRODID:-//Martindale Travel and Tours - ECPv6.15.11//NONSGML v1.0//EN
CALSCALE:GREGORIAN
METHOD:PUBLISH
X-WR-CALNAME:Martindale Travel and Tours
X-ORIGINAL-URL:https://www.cruisewinetravel.com
X-WR-CALDESC:Events for Martindale Travel and Tours
REFRESH-INTERVAL;VALUE=DURATION:PT1H
X-Robots-Tag:noindex
X-PUBLISHED-TTL:PT1H
BEGIN:VTIMEZONE
TZID:UTC
BEGIN:STANDARD
TZOFFSETFROM:+0000
TZOFFSETTO:+0000
TZNAME:UTC
DTSTART:20250101T000000
END:STANDARD
END:VTIMEZONE
BEGIN:VEVENT
DTSTART;VALUE=DATE:20261230
DTEND;VALUE=DATE:20270109
DTSTAMP:20260423T021024
CREATED:20250719T111546Z
LAST-MODIFIED:20250719T111718Z
UID:12361-1798588800-1799452799@www.cruisewinetravel.com
SUMMARY:New Year's On The Mexican Riviera With Crystal Cruises 2026
DESCRIPTION:BOOK NOW:   Call 206-399-2138   |   Email amartindale@cruiseplanners.com\n\nNew Year’s on the Mexican Riviera with Crystal Cruises\n9-Nights aboard the Crystal Serenity \n12/30/26 – 1/8/27 \n \n \n  \nRing in the New Year in style—no flights required… (from San Diego) \nStep aboard the newly reimagined Crystal Serenity\, departing right from San Diego\, and cruise into 2027 wrapped in luxury.\nThis Baja Peninsula voyage is tailor-made for those who crave indulgence\, adventure\, and effortless elegance. \nEase into the rhythm of the sea with two serene days onboard\, where your personal butler\, Michelin-inspired dining\, and open bars set the tone.\nAnd on the first sea day—New Year’s Eve itself—the ship comes alive with a glamorous celebration at sea.\nPicture an elegant evening of music\, dancing\, champagne toasts\, all under the stars without lifting a finger! \nThen\, drop anchor in Manzanillo—where golden beaches and deep-sea thrills await.\nIn Puerto Vallarta\, soak in the inclusive\, laid-back spirit of this coastal gem.\nThen it’s on to Mazatlán\, where colonial charm meets a vibrant seafood scene.\nFinally\, Cabo San Lucas delivers a showstopping finale with breaching whales and dramatic sea cliffs. \nThis is more than a cruise—it’s a celebration of the season\, set against a backdrop of sun\, sea\, and sophistication.\nSpace is limited\, so reserve your suite now and toast the New Year aboard one of the world’s most beloved luxury ships. \n \nINCLUDED: \nUnlimited beverages\, from fine wines and champagne to premium spirits and craft cocktails – your in-suite minibar is restocked daily. \nGratuities\, no tipping is expected for housekeeping\, dining\, or bar staff. \nAll-suite accommodations with personal butler service—even the entry-level suites come with a view and high-end amenities. \nMichelin-inspired dining\, including specialty restaurants like Nobu’s Umi Uma\, plus 24-hour in-suite dining. \nEnrichment programs\, including guest lectures\, wellness classes like yoga and Pilates\, and destination-themed entertainment. \nWi-Fi and onboard entertainment are also typically included\, depending on the itinerary. \nUnforgettable dining experiences at exquisite restaurants are all at no additional charge \n$200 Per Person Onboard Credit. \nWelcome & Farewell Cocktail receptions \nGroup wine-paired dinner \n10% Explorer Fare discount available for guests who wish to pay in full (Limited promotion period)
URL:https://www.cruisewinetravel.com/event/new-years-on-the-mexican-riviera-with-crystal-cruises-2026/
LOCATION:Crystal ~ Crystal Serenity
CATEGORIES:Group Cruises/Tours
ATTACH;FMTTYPE=image/jpeg:https://www.cruisewinetravel.com/wp-content/uploads/2024/12/crystal_serenity.jpg
END:VEVENT
END:VCALENDAR