BEGIN:VCALENDAR
VERSION:2.0
PRODID:-//Martindale Travel and Tours - ECPv6.15.11//NONSGML v1.0//EN
CALSCALE:GREGORIAN
METHOD:PUBLISH
X-ORIGINAL-URL:https://www.cruisewinetravel.com
X-WR-CALDESC:Events for Martindale Travel and Tours
REFRESH-INTERVAL;VALUE=DURATION:PT1H
X-Robots-Tag:noindex
X-PUBLISHED-TTL:PT1H
BEGIN:VTIMEZONE
TZID:UTC
BEGIN:STANDARD
TZOFFSETFROM:+0000
TZOFFSETTO:+0000
TZNAME:UTC
DTSTART:20240101T000000
END:STANDARD
END:VTIMEZONE
BEGIN:VEVENT
DTSTART;VALUE=DATE:20251022
DTEND;VALUE=DATE:20251107
DTSTAMP:20260423T032146
CREATED:20241101T161219Z
LAST-MODIFIED:20250719T110351Z
UID:12324-1761091200-1762473599@www.cruisewinetravel.com
SUMMARY:Hong Kong To Bangkok Oceania Reunion Cruise 2025
DESCRIPTION:BOOK NOW:   Call 206-399-2138   |   Email amartindale@cruiseplanners.com\n\nCruise with Leslie Jon\, Captain Flokos and Neli Arias\nHong Kong to Bangkok \nOctober 22nd – November 6th\, 2025 \nOceania Marina \n15 Days \n \nOceania Club Reunion Cruise \nAmong the Oceania Cruises’ hosts onboard will be Captain Demitris Flokos\, one of the line’s first Masters; Leslie Jon\, Oceania Cruises’ first ever cruise director who served onboard for 23 years\, and Neli Arias\, Head of the Oceania Club™\, who invite you to join them at numerous special events from Oceania Cruises’ gala brunch to exclusive dinners and cocktail receptions\, to special shore excursions to show off this fascinating part of the world. The Oceania Club Reunion Cruise aboard Riviera is open to loyal Oceania Club members as well as curious travelers who are new to Oceania Cruises. \n \nIncluded: \nGroup Prestige Select Beverage Package \nUnforgettable dining experiences at exquisite restaurants are all at no additional charge. \nComplimentary specialty coffees\, sodas\, cold-pressed juices\, and still and sparkling Vero Water® are served throughout the ship. \nUnlimited\, free WiFi is available in your suite\, stateroom and all public areas. \nIn-room dining features a superb variety of hot and cold selections. \nFruit smoothies\, milkshakes\, gelato and gourmet Humphry Slocombe ice cream are always included. \nGroup fitness classes at Aquamar® Spa + Vitality Center are free of charge. \nGratuities are included for your convenience. \nLaundry free for all guests. \nAbout Cruise Director Leslie Jon\nOn April 2\, 1971\, Leslie Jon boarded his first cruise ship as a Guest Entertainer. This embarkation would ultimately change the course of his life forever. Born and raised in Los Angeles\, California\, Leslie began his theatrical career at the age of five. In his youth\, he ballroom danced with Dame Margot Fonteyn. As an adult\, he worked with some of the greatest entertainers in the world. Leslie’s credits include Battle of the Bands\, Hollywood Bowl; The Mikado Theatre\, Tokyo\, Japan; The Aladdin Hotel\, Las Vegas; and the Village Gate in New York\, just to name a few. Leslie joined Oceania Cruises in 2003. He’s very proud to have been their first Cruise Director and Master of Ceremonies for all Oceania Cruises inaugurations to date. He recently retired in 2024.
URL:https://www.cruisewinetravel.com/event/hong-kong-to-bangkok-oceania-reunion-cruise/
LOCATION:Oceania Cruises ~ Marina
CATEGORIES:Group Cruises/Tours
ATTACH;FMTTYPE=image/jpeg:https://www.cruisewinetravel.com/wp-content/uploads/2020/09/marina-dubrovonik-croatia-736x414-1.jpg
END:VEVENT
END:VCALENDAR