BEGIN:VCALENDAR
VERSION:2.0
PRODID:-//Martindale Travel and Tours - ECPv6.15.11//NONSGML v1.0//EN
CALSCALE:GREGORIAN
METHOD:PUBLISH
X-ORIGINAL-URL:http://www.cruisewinetravel.com
X-WR-CALDESC:Events for Martindale Travel and Tours
REFRESH-INTERVAL;VALUE=DURATION:PT1H
X-Robots-Tag:noindex
X-PUBLISHED-TTL:PT1H
BEGIN:VTIMEZONE
TZID:UTC
BEGIN:STANDARD
TZOFFSETFROM:+0000
TZOFFSETTO:+0000
TZNAME:UTC
DTSTART:20240101T000000
END:STANDARD
END:VTIMEZONE
BEGIN:VEVENT
DTSTART;VALUE=DATE:20250607
DTEND;VALUE=DATE:20250615
DTSTAMP:20260423T082823
CREATED:20240802T212336Z
LAST-MODIFIED:20240802T212631Z
UID:12299-1749254400-1749945599@www.cruisewinetravel.com
SUMMARY:Iconic Spain & Iberia With Atlas Ocean Voyages 2025
DESCRIPTION:BOOK NOW:   Call 206-399-2138   |   Email amartindale@cruiseplanners.com\n\n\nCOME CRUISE WITH US ON ATLAS OCEAN VOYAGES\nLISBON TO BARCELONA – WORLD NAVIGATOR\nJune 7\, 2025\n7 Nights \n \n\n\nWE HAVE FANTASTIC GROUP PRICING & REDUCED SOLO PRICING! \n \n\n\n  \nThe high energy of Portugal\, Spain and Morocco’s local cultures call out for exploration. Embark on a magical journey from Portimão with opportunities to capture the Algarve region’s stunning coastal scenery on an excursion through the grottos. Staying late in the historic Cádiz\, discover some of the world’s most legendary wines at the birthplace of sherry. Uncover the secrets of making the perfect mint tea\, a time-honored Moroccan tradition\, and savor it with freshly baked bread in Tangier. While Motril is often a gateway to the iconic city of Granada and Alhambra Palace — an outstanding example of Moorish architecture and home to the UNESCO-listed Albayzín — this Spanish town holds a charm all its own. In Cartagena\, a city inhabited for more than two millennia\, search for secret tunnels that once housed World War II submarines. Acquaint yourself with the UNESCO World Heritage Site of Alta Vila from Ibiza for an enriching journey into Spanish culture. Countless in-depth explorations await on this Epicurean Expedition. \n  \nLISBON TO BARCELONA\n\nJune 7\, 2025\n\n\n7 Nights\n\nWORLD NAVIGATOR®\n  \nDeparting Lisbon on June 7th\, 2025 \nVisiting: Lisbon\, Coimbra\, transfer to Porto (embark)\, Portimao\, Cadiz\, Tangier\, Motril (for Granada)\, Cartagena\, Ibiza\, Barcelona \nGroup Exclusive \n$200 On-Board Credit Included\, per guest\, Welcome Bottle of Champagne & Welcome Cocktail Party \n \n\n \nEXCLUSIVELY ON EPICUREAN EXPEDITIONS\n\n\nFREE cultural immersion includes culinary experience ashore\, such as local market visits\, specialty tastings and more \nFREE Josper Grill Dining Experience at 7AFT Grill \nFREE culinary presentations and wine tastings \nFREE cooking demonstrations and cuisine tastings \nFREE events hosted by a Tastes & Traditions Expert on select expeditions \nFREE Atlas Ocean Voyages backpack \n\n \n\n\nALWAYS INCLUDED\n\n\n\n\n\n\nFREE cultural immersion \nFREE gourmet dining with ever-changing menus \nFREE unlimited beverages\, including fine wines\, spirits and craft beers \nFREE open bars and lounges\, including 24-hour bar service with specialty canapés \nFREE stocked in-room minibar \nFREE specialty coffees\, teas and fresh-pressed juices \nFREE afternoon and high tea \nFREE champagne and gourmet canapés during meet and greet \nFREE 24-hour room service\, including spirits\, wine and beer \nFREE L’OCCITANE bath amenities \nFREE pre-paid gratuities \nFREE use of walking sticks and binoculars \nFREE reusable water bottle \nFREE butler service and expanded room service menu in suites
URL:http://www.cruisewinetravel.com/event/iconic-spain-iberia-with-atlas-ocean-voyages-2025/
LOCATION:Atlas Ocean Voyages ~ World Navigator
CATEGORIES:Wine & Food Cruises/Tours
ATTACH;FMTTYPE=image/jpeg:http://www.cruisewinetravel.com/wp-content/uploads/2024/08/world_navigator.jpg
END:VEVENT
END:VCALENDAR