BEGIN:VCALENDAR
VERSION:2.0
PRODID:-//Martindale Travel and Tours - ECPv6.15.11//NONSGML v1.0//EN
CALSCALE:GREGORIAN
METHOD:PUBLISH
X-WR-CALNAME:Martindale Travel and Tours
X-ORIGINAL-URL:http://www.cruisewinetravel.com
X-WR-CALDESC:Events for Martindale Travel and Tours
REFRESH-INTERVAL;VALUE=DURATION:PT1H
X-Robots-Tag:noindex
X-PUBLISHED-TTL:PT1H
BEGIN:VTIMEZONE
TZID:UTC
BEGIN:STANDARD
TZOFFSETFROM:+0000
TZOFFSETTO:+0000
TZNAME:UTC
DTSTART:20230101T000000
END:STANDARD
END:VTIMEZONE
BEGIN:VEVENT
DTSTART;VALUE=DATE:20240925
DTEND;VALUE=DATE:20241106
DTSTAMP:20260423T192812
CREATED:20230926T211313Z
LAST-MODIFIED:20240502T023052Z
UID:12215-1727222400-1730851199@www.cruisewinetravel.com
SUMMARY:Epicurean Spotlight On Wine: Charles Krug Winery With Hosts Peter & Katie Mondavi 2024
DESCRIPTION:BOOK NOW:   Call 206-399-2138   |   Email amartindale@cruiseplanners.com\n\n  \nEpicurean Spotlight on Wine: \nCHARLES KRUG WINERY WITH HOSTS PETER & KATIE MONDAVI\n \n \nRome (Civitavecchia) to Trieste\n10-night cruise September 25th to October 5th\, 2024 \non Regent Seven Seas “Voyager”\n \n \n \nIncludes: \nWelcome & Farewell Receptions \nWine-Paired Dinners & Tastings led by Peter Mondavi Jr. \n$400 Shipboard Credit per Suite \nRoundtrip Business Class Air* on All Intercontinental Flights \nUnlimited Beverages\, Including Fine Wines and Premium Spirits \nPrivate Group Epicurean Experiences* \nUnlimited Shore Excursions \nPre-Paid Gratuities \nSpecialty Restaurants \n24-Hour Room Service \nTransfers Between Airport and Ship* \nUnlimited WiFi* \nValet Laundry Service* \nConcierge Suites and above include 1-Night Pre-Cruise Hotel Package \nPenthouse suites and above include Free Personal Butler \n(* Terms & Conditions apply) \n \nStart your adventure in Rome where you’ll board the cruise ship in the port of Civitavecchia.  From there\, you’ll set sail for Amalfi\, known for its stunning coastline and beautiful town of Positano.  Next up is Messina\, Sicily\, where historical & architectural treasures abound in this important port city.  The next day\, you’ll dock in Valetta\, the capital of Malta\, a UNESCO World Heritage site and enjoy the historic center and harbor.  Spend a day cruising the Ionean Sea\, then discover Igoumenitsa\, a costal town in Greece that boasts beautiful beaches and rich archaeological sites.  Set sail for Albania where you’ll dock in Durres\, a short drive from Tirana\, the Albanian capital.  Your next port will be Kotor in Montenegro\, a well-preserved medieval town surrounded by glorious mountains.  Climb the city walls to enjoy unique panoramic views.  The next day\, you’ll arrive in Rijeka\, Croatia\, a port city with a rich cultural scene with many museums and stunning Trsat castle.  End your trip in Trieste\, Italy\, a city with a mix of Italian\, Austrian and Slovenian influences. \nOptions for Pre & Post Cruise extentions are available!
URL:http://www.cruisewinetravel.com/event/epicurean-spotlight-on-wine-charles-krug-winery-with-hosts-peter-katie-mondavi-2024/
LOCATION:Regent Seven Seas Cruises ~ Seven Seas Voyager
CATEGORIES:Wine & Food Cruises/Tours
ATTACH;FMTTYPE=image/jpeg:http://www.cruisewinetravel.com/wp-content/uploads/2020/09/voyager.jpg
END:VEVENT
END:VCALENDAR