BEGIN:VCALENDAR
VERSION:2.0
PRODID:-//Martindale Travel and Tours - ECPv6.15.11//NONSGML v1.0//EN
CALSCALE:GREGORIAN
METHOD:PUBLISH
X-WR-CALNAME:Martindale Travel and Tours
X-ORIGINAL-URL:http://www.cruisewinetravel.com
X-WR-CALDESC:Events for Martindale Travel and Tours
REFRESH-INTERVAL;VALUE=DURATION:PT1H
X-Robots-Tag:noindex
X-PUBLISHED-TTL:PT1H
BEGIN:VTIMEZONE
TZID:UTC
BEGIN:STANDARD
TZOFFSETFROM:+0000
TZOFFSETTO:+0000
TZNAME:UTC
DTSTART:20230101T000000
END:STANDARD
END:VTIMEZONE
BEGIN:VEVENT
DTSTART;VALUE=DATE:20240611
DTEND;VALUE=DATE:20240619
DTSTAMP:20260424T002411
CREATED:20230208T172035Z
LAST-MODIFIED:20230208T172134Z
UID:12168-1718064000-1718755199@www.cruisewinetravel.com
SUMMARY:Cruise Portugal & Spain With Grandfather Vineyards 2024
DESCRIPTION:BOOK NOW:   Call 206-399-2138   |   Email amartindale@cruiseplanners.com\n\n\n \nFlavors of Portugal & Spain with Grandfather Vineyards\n \nJune 11th – June 18th\, 2024 \nOptional 3 Nights Lisbon Pre-Cruise And 3 Nights Madrid Post-Cruise*\n \nGroup Pricing Includes a $250 discount per person\, port charges and pre-paid gratuities \n \n\nCRUISE FROM : PORTO TO VEGA DE TERRÓN\n\n\nSet sail in Porto\, the beautiful “City of Bridges” and gateway to the Douro River Valley\, a UNESCO World Heritage Site\, with rambling vineyards and charming quintas\, which cling to the steep sides of the river. Taste wines from these vineyards and discover the timeless traditions of Portuguese winemaking throughout your journey. Visit Castelo Rodrigo\, the “White Village”; enjoy an immersive lunch at a quinta in Pinhão; see Lamego\, one of Portugal’s most important pilgrimage sites; and marvel at a centuries-old Portuguese monastery. Historic places\, unspoiled beauty and distinctive wines are yours to be enjoyed as you savor the flavors of Spain and Portugal.\n\n\n\nCOUNTRIES: PORTUGAL\, SPAIN\nRIVERS: DOURO\n\n\n \nSPACIOUS STATEROOMS\n7 nights luxury accommodation in an outside stateroom (most with outside balconies) \nEntertainment-On-Demand in all staterooms featuring free high-speed internet access\, movies\, a music library and English language TV stations \nDesk and sitting area \nBottled water replenished daily \n\n\nAN ARRAY OF AMENITIES\nPersonalized service from a highly trained Cruise Manager during both cruise and land programs \nInternet and Wi-Fi access \nSun deck and pool \nFitness room \nMain Lounge with panoramic views and bar \nBottled water in every stateroom replenished daily \nDaily entertainment including cultural performances \n\n\nAWARD-WINNING DINING\nAll onboard dining in a variety of venues \nRegionally inspired cuisine made with locally sourced ingredients \nWelcome Cocktail\, Welcome Dinner\, Captain’s Cocktail and Gala Dinner \nUnlimited fine wine\, beer and soft drinks with lunch and dinner \nUnlimited sparkling wine and fresh juice with breakfast \nSip & Sail Cocktail Hour with complimentary wine\, beer\, spirits and soft drinks \nTapas\, sandwiches\, snacks and refreshments served daily in the Main Lounge \n\n\nA WORLD OF EXPLORATION\nImmersive tours in every destination \nGentle\, regular\, active and late-riser tour options \nGuided hikes \nSpecial Interest Tours \nKnowledgeable guides \nPersonal headset for easy exploration \nAirport transfers with purchase of air from AmaWaterways \n*Land Packages \nOptional:\n3 Nights Madrid package (Pre-cruise): $900 DBL / $1380 SGL  – 06/08/24 – 06/11/24\n3 Nights Lisbon package (Post-cruise): $900 DBL / $1380 SGL –  06/18/24 – 06/21/24
URL:http://www.cruisewinetravel.com/event/cruise-portugal-spain-with-grandfather-vineyards-2024/
LOCATION:AmaWaterways ~ AmaVida
CATEGORIES:Wine & Food Cruises/Tours
ATTACH;FMTTYPE=image/jpeg:http://www.cruisewinetravel.com/wp-content/uploads/2023/02/amavida.jpg
END:VEVENT
BEGIN:VEVENT
DTSTART;VALUE=DATE:20240613
DTEND;VALUE=DATE:20240625
DTSTAMP:20260424T002411
CREATED:20220726T220017Z
LAST-MODIFIED:20220726T220248Z
UID:12095-1718236800-1719273599@www.cruisewinetravel.com
SUMMARY:San Francisco Wine School Cruise 2024
DESCRIPTION:BOOK NOW:   Call 206-399-2138   |   Email amartindale@cruiseplanners.com\n\nSAN FRANCISCO WINE SCHOOL CRUISE with\n Master Sommelier David Glancy\, Founder of San Francisco Wine School \nCruise with us on the Oceania Marina \nJune 13th – June 24th\, 2024 \n  \n \n  \nLisbon to Amsterdam – 11 Nights \nVisiting: Lisbon\, Porto\, La Coruna\, Bilbao\, Bordeaux\, Lorient\, St. Malo\, Le Havre\, Tilbury\, Zeebrugge\, Amsterdam \n  \n \n  \nJoin us for another incredible edu-tasting vacation next summer as the San Francisco Wine School hosts their wine cruise aboard Oceania’s beautiful Marina.  This year\, we will visit Porto\, Bordeaux\, Spain\, England\, Belgium and much more….. We’ll grab lots of interesting wine that we’ll never find again back in the US! \n  \n  \n  \nMaster Sommelier David Glancy will lead our intimate\, private group through local\, regional edu-tastings\, epicurean pairing dinners\, and on-shore excursions! \nThis cruise includes airfare from select gateways\, gratuities unlimited internet and your choice of generous amenities.  Some SFWS excursions require an additional fee. \nWe feature a generous amenity package which includes pre-paid gratuities\, airfare* from select gateways and free unlimited internet. \n  \nExclusive San Francisco Wine School Food & Wine shore excursions will be available for an additional charge \nIncludes \nRound-Trip Airfare from major US and Canadian gateways \nPre-Paid Gratuities \nGroup Cocktail Party & Group Dinners \nWine Tastings led by Master Sommelier David Glancy \nWine Paired Dinner designed & led by Master Sommelier David Glancy \n  \n Pricing from $4\,949 per person (Inside stateroom)\, which includes: \n Airfare*\, Unlimited Internet\, Pre-Paid Gratuities\, plus choose one amenity: \n6 Oceania Shore Excursions (Excludes SF Wine School Excursions) OR\nBeverage Package OR\n$600 Shipboard Credit\nAmenities are per stateroom \n  LIMITED AVAILABILITY – Pricing subject to change \n  \n$500 Deposit per person is required to secure your stateroom or suite \n  \nTerms and Conditions \nStandard terms apply. View complete terms and conditions in addition: OLife Choice offer is subject to change. OLife Choice amenities are per stateroom\, based on double occupancy and subject to change. Free Internet is one per stateroom; Owner’s\, Vista & Oceania Suites receive access for two devices per suite. OLife Choice free shore excursions vary by voyage and exclude Oceania Select\, Oceania Exclusive\, Executive Collection\, Food & Wine Trails\, Wellness and Culinary Discovery Tours. If shore excursion amenity is selected\, all excursions must be chosen at least 14 days prior to sailing. OLife Choice beverage package amenity is House Select. \nGuests in the same stateroom must choose the same OLife Choice amenity\, and amenity must be chosen by final payment. \n  \n*$1\,100 is included in the above prices for round-trip airfare from major US Gateways. \nThis can be removed if booking your own air or using miles. We can also quote business class air with a great consolidator. \n$199 Premium Economy Air Upgrade Also Available \n \n\nWhen one didn’t exist\, David Glancy created a Certified Sommelier Program at the Professional Culinary Institute (now known as ICC)\, successfully coaching more than 400 students to pass the Court’s Certified Sommelier exam. \nGlancy’s program remains the only Certified Sommelier program officially approved by the Court of Master Sommeliers. Soon after in 2011\, Glancy founded San Francisco Wine School to create the ideal educational setting from the ground up. Read about his vision. \nGlancy is one of only twelve people in the world to hold both the revered Master Sommelier diploma and a Certified Wine Educator credential. A certified French Wine Scholar\, Italian Wine Professional\, and Certified Specialist of Spirits\, Glancy has earned the credential for every program he teaches\, and more. He taught wine and business management at Le Cordon Bleu’s California Culinary Academy in San Francisco\, and served on the editorial board of Sommelier Journal. He currently sits on the board of directors for the Society of Wine Educators. \n  \n\n ABOUT SAN FRANCISCO WINE SCHOOL\nSan Francisco Wine School strives to open up the world of wine to serious students and enthusiasts everywhere while helping people of all levels break into the wine industry\, advance their career\, or simply pursue their passions. Founded by Master Sommelier and Certified Wine Educator David Glancy\, San Francisco Wine School is the largest wine school in the U.S.\, offering the most thoughtful approach to wine study. Their inspired educational programs and workshops are taught in their state of the art wine education & events center and their cutting edge virtual classroom by industry-leading instructors from all major educational disciplines. San Francisco Wine School’s curriculum features the best content in the business: expert course materials\, carefully conceived wine flights\, and in-depth blind tasting exercises designed to engage students\, illuminate course content and enhance learning. Their brand new 4\,000 sq ft wine education & events center is conveniently located just 5 minutes from San Francisco International Airport making it the perfect place to enjoy classes\, industry seminars and tastings and host a wide variety of private events—from serious educational programs for wine/hospitality industry staff to team-building and other fun\, social\, private events for wine enthusiasts. \n* Pricing is based on prevailing rates and subject to change.
URL:http://www.cruisewinetravel.com/event/san-francisco-wine-school-cruise-2024/
LOCATION:Oceania Cruises ~ Marina
CATEGORIES:Wine & Food Cruises/Tours
ATTACH;FMTTYPE=image/jpeg:http://www.cruisewinetravel.com/wp-content/uploads/2020/09/marina-dubrovonik-croatia-736x414-1.jpg
END:VEVENT
END:VCALENDAR