BEGIN:VCALENDAR
VERSION:2.0
PRODID:-//Martindale Travel and Tours - ECPv6.15.11//NONSGML v1.0//EN
CALSCALE:GREGORIAN
METHOD:PUBLISH
X-WR-CALNAME:Martindale Travel and Tours
X-ORIGINAL-URL:http://www.cruisewinetravel.com
X-WR-CALDESC:Events for Martindale Travel and Tours
REFRESH-INTERVAL;VALUE=DURATION:PT1H
X-Robots-Tag:noindex
X-PUBLISHED-TTL:PT1H
BEGIN:VTIMEZONE
TZID:UTC
BEGIN:STANDARD
TZOFFSETFROM:+0000
TZOFFSETTO:+0000
TZNAME:UTC
DTSTART:20220101T000000
END:STANDARD
END:VTIMEZONE
BEGIN:VEVENT
DTSTART;VALUE=DATE:20230619
DTEND;VALUE=DATE:20230624
DTSTAMP:20260424T163239
CREATED:20230102T181043Z
LAST-MODIFIED:20230102T184026Z
UID:12146-1687132800-1687564799@www.cruisewinetravel.com
SUMMARY:Valle De Guadalupe With The San Francisco Wine School 2023
DESCRIPTION:BOOK NOW:   Call 206-399-2138   |   Email amartindale@cruiseplanners.com\n\n\n\n\nSAN FRANCISCO WINE SCHOOL VISITS\nVALLE DE GUADALUPE\, MEXICO\n\n\nJune 19-23\, 2023 \n\n\n\n\n\n\nJoin San Francisco Wine School owners Kristin Campbell and Master Sommelier David Glancy as we stay at El Cielo Resort. This resort in Valle de Guadalupe is strategically located on the famous “Wine Route” of Ensenada\, Baja California. It is surrounded by beautiful vineyards and mountains that create harmony with the landscape and nature.\n\n \n San Francisco Wine School strives to open up the world of wine to students everywhere\, helping people of all levels break into the wine industry\, advance their career\, or simply pursue their passions. Founded by David Glancy\, MS\, CWE in 2011\, they are the largest wine school in the United States offering the most thoughtful approach to wine study: respected industry Certification Programs\, unique Workshops on today’s most important topics\, Special Events\, and Private Experiences.  David Glancy is a Master Sommelier and Certified Wine Educator\, one of only twelve people in the world to hold both credentials. \n \nPricing currently includes 4 nights at El Cielo Resort\, Breakfast\, taxes and service charges. Group transportation to & from El Cielo will be available from a hotel near San Diego Airport on June 19 and 23rd for an additional charge. \nAdditional nights are available at El Cielo for the same rate from June 17-19th and from June 23-25th. \nGroup activities require an additional charge and include welcome reception\, Valle De Guadalupe overview seated seminar & tasting\, VIP winery tours and tastings\, private group lunches and dinners\, and transportation.  Full itinerary and pricing will be published in coming months \n \n\n\n\n \nEl Cielo Resort\nEl Cielo Resort\, a unique hotel on the Wine Route\, has 80 luxurious suites and rooms that adapt to the lifestyle and needs of each traveler. In addition\, they have Presidential Villas\, ideal for enjoying the privacy and elegance of the resort. \nThe design of each room stands out for its good taste\, with contemporary interiors and a range of colors that flow with the environment that surrounds us\, to enjoy the spectacular views that nature creates around the resort. \n  \n\n\n\n\nA deposit of $250pp is required upon booking. This is non-refundable. \nFull Payment is due on May 1st. \nIf you cancel between May 2nd and and May 19th\, you will receive a 50% refund \nIf you cancel between May 20th and June 3rd\,  you will receive a 25% refund. \nIf you cancel after June 3rd\, you will receive no refund. 
URL:http://www.cruisewinetravel.com/event/valle-de-guadalupe-with-the-san-francisco-wine-school-2023/
LOCATION:San Francisco Wine School ~ El Cielo Resort
CATEGORIES:Wine & Food Cruises/Tours
ATTACH;FMTTYPE=image/png:http://www.cruisewinetravel.com/wp-content/uploads/2023/01/EL-CIELO-Grupos_0071671311839.png
END:VEVENT
END:VCALENDAR