BEGIN:VCALENDAR
VERSION:2.0
PRODID:-//Martindale Travel and Tours - ECPv6.15.11//NONSGML v1.0//EN
CALSCALE:GREGORIAN
METHOD:PUBLISH
X-ORIGINAL-URL:http://www.cruisewinetravel.com
X-WR-CALDESC:Events for Martindale Travel and Tours
REFRESH-INTERVAL;VALUE=DURATION:PT1H
X-Robots-Tag:noindex
X-PUBLISHED-TTL:PT1H
BEGIN:VTIMEZONE
TZID:UTC
BEGIN:STANDARD
TZOFFSETFROM:+0000
TZOFFSETTO:+0000
TZNAME:UTC
DTSTART:20210101T000000
END:STANDARD
END:VTIMEZONE
BEGIN:VEVENT
DTSTART;VALUE=DATE:20220327
DTEND;VALUE=DATE:20220404
DTSTAMP:20260425T105949
CREATED:20211214T172245Z
LAST-MODIFIED:20220228T164943Z
UID:12036-1648339200-1649030399@www.cruisewinetravel.com
SUMMARY:California Coastal Wine Cruise On The Koningsdam 2022
DESCRIPTION:BOOK NOW:   Call 206-399-2138   |   Email amartindale@cruiseplanners.com\n\nCalifornia Coastal Wine Cruise on the Koningsdam\nMarch 27th\, 2022\n \n \n7-night trip going to U.S. West Coast (Pacific Seaboard)\nVisiting: San Diego\, Catalina Island\, Santa Barbara\, San Francisco\, Ensenada
URL:http://www.cruisewinetravel.com/event/california-coastal-wine-cruise-on-the-koningsdam-2022/
LOCATION:Holland America Line ~ Koningsdam
CATEGORIES:Wine & Food Cruises/Tours
ATTACH;FMTTYPE=image/jpeg:http://www.cruisewinetravel.com/wp-content/uploads/2021/12/koningsdam.jpg
END:VEVENT
END:VCALENDAR