BEGIN:VCALENDAR
VERSION:2.0
PRODID:-//Martindale Travel and Tours - ECPv6.15.11//NONSGML v1.0//EN
CALSCALE:GREGORIAN
METHOD:PUBLISH
X-ORIGINAL-URL:http://www.cruisewinetravel.com
X-WR-CALDESC:Events for Martindale Travel and Tours
REFRESH-INTERVAL;VALUE=DURATION:PT1H
X-Robots-Tag:noindex
X-PUBLISHED-TTL:PT1H
BEGIN:VTIMEZONE
TZID:UTC
BEGIN:STANDARD
TZOFFSETFROM:+0000
TZOFFSETTO:+0000
TZNAME:UTC
DTSTART:20200101T000000
END:STANDARD
END:VTIMEZONE
BEGIN:VEVENT
DTSTART;VALUE=DATE:20211016
DTEND;VALUE=DATE:20211027
DTSTAMP:20260425T193000
CREATED:20200707T211852Z
LAST-MODIFIED:20210114T204348Z
UID:11510-1634342400-1635292799@www.cruisewinetravel.com
SUMMARY:Ambassador Winery Group Cruise 2021
DESCRIPTION:BOOK NOW:   Call 206-399-2138   |   Email amartindale@cruiseplanners.com\n\n\nCruise with Allison & Nathan Engman and\nMike & Rumi Amato from\nAmbassador Wines of Washington\n \nCruise with us on the Oceania Marina \nOctober 16th – October 26th\, 2021 \n \n\nMediterranean Palette\n Venice to Barcelona – 10 Days\n\n \n\n\n\nIncluded: \nRound-Trip Airfare from major US and Canadian gateways* \nPre-Paid Gratuities \nUnlimited Internet \nWine\, Beer & Champagne with Lunch & Dinner \n$450 on board credit\, per stateroom (which can be used towards the upgrade of the beverage package) \nGroup Cocktail Party \nWine Tasting \nWine Paired Ambassador Wine Dinner and group dinners on board \nAll meals on board\, including 24 hour room service \nEntertainment on board the ship \n Exclusive Private Food & Wine shore excursions will be available for an additional charge\n \n \nAmbassador Wines – Exclusively Red Wine\, Exclusively Estate\, Exclusively Red Mountain.  Ambassador Wines of Washington produces 100% estate grown Washington state red wines from our outstanding vineyard located on Red Mountain.  We are committed to making wines of the finest quality that reflect the richness and diversity of the coveted Red Mountain terroir.” \n*$850 is included in the above prices for round-trip airfare from major US Gateways. \nThis can be removed if booking your own air or using miles. We can also quote business class air with a great consolidator.
URL:http://www.cruisewinetravel.com/event/ambassador-winery-group-cruise-2021/
LOCATION:Oceania Cruises ~ Marina
CATEGORIES:Wine & Food Cruises/Tours
ATTACH;FMTTYPE=image/jpeg:http://www.cruisewinetravel.com/wp-content/uploads/2020/07/marina.jpg
END:VEVENT
END:VCALENDAR