BEGIN:VCALENDAR
VERSION:2.0
PRODID:-//Martindale Travel and Tours - ECPv6.15.11//NONSGML v1.0//EN
CALSCALE:GREGORIAN
METHOD:PUBLISH
X-WR-CALNAME:Martindale Travel and Tours
X-ORIGINAL-URL:http://www.cruisewinetravel.com
X-WR-CALDESC:Events for Martindale Travel and Tours
REFRESH-INTERVAL;VALUE=DURATION:PT1H
X-Robots-Tag:noindex
X-PUBLISHED-TTL:PT1H
BEGIN:VTIMEZONE
TZID:UTC
BEGIN:STANDARD
TZOFFSETFROM:+0000
TZOFFSETTO:+0000
TZNAME:UTC
DTSTART:20230101T000000
END:STANDARD
END:VTIMEZONE
BEGIN:VEVENT
DTSTART;VALUE=DATE:20240922
DTEND;VALUE=DATE:20241003
DTSTAMP:20260423T180304
CREATED:20221202T221333Z
LAST-MODIFIED:20221202T221431Z
UID:12143-1726963200-1727913599@www.cruisewinetravel.com
SUMMARY:Ambassador Winery Cruise 2024
DESCRIPTION:BOOK NOW:   Call 206-399-2138   |   Email amartindale@cruiseplanners.com\n\nCruise with Allison & Nathan Engman\nwith\nAmbassador Wines of Washington\n\nSeptember 22nd to October 2nd\, 2024\nSouthampton to Barcelona – 10 Days\n \nOceania Marina \n \nExclusive Ambassador food & wine shore excursions in Oporto and Bordeaux will be available for an additional charge \n \nIncludes \nRound-Trip Airfare from major US and Canadian gateways* \nPre-Paid Gratuities \nGroup Cocktail Party & Group Dinners \nWine Paired Dinner with Ambassador Wines of Washington \n \n Pricing from $4\,699 per person (Inside stateroom)\, which includes: \n Airfare*\, Unlimited Internet\, Pre-Paid Gratuities\, plus choose one amenity: \n6 Oceania Shore Excursions (Excludes SF Wine School Excursions) OR\nBeverage Package OR\n$600 Shipboard Credit\nAmenities are per stateroom \n  LIMITED AVAILABILITY – Pricing subject to change \n$500 Deposit per person is required to secure your stateroom or suite \n \nTerms and Conditions  \nStandard terms apply. View complete terms and conditions in addition: OLife Choice offer is subject to change. OLife Choice amenities are per stateroom\, based on double occupancy and subject to change. Free Internet is one per stateroom; Owner’s\, Vista & Oceania Suites receive access for two devices per suite. OLife Choice free shore excursions vary by voyage and exclude Oceania Select\, Oceania Exclusive\, Executive Collection\, Food & Wine Trails\, Wellness and Culinary Discovery Tours. If shore excursion amenity is selected\, all excursions must be chosen at least 14 days prior to sailing. OLife Choice beverage package amenity is House Select. \nGuests in the same stateroom must choose the same OLife Choice amenity\, and amenity must be chosen by final payment. \n*$1\,000 is included in the above prices for round-trip airfare from major US Gateways. \nThis can be removed if booking your own air or using miles. We can also quote business class air with a great consolidator. \n$199 Premium Economy Air Upgrade Also Available
URL:http://www.cruisewinetravel.com/event/ambassador-winery-cruise-2024/
LOCATION:Oceania Cruises ~ Marina
CATEGORIES:Wine & Food Cruises/Tours
ATTACH;FMTTYPE=image/jpeg:http://www.cruisewinetravel.com/wp-content/uploads/2020/09/marina-dubrovonik-croatia-736x414-1.jpg
END:VEVENT
BEGIN:VEVENT
DTSTART;VALUE=DATE:20240925
DTEND;VALUE=DATE:20241106
DTSTAMP:20260423T180304
CREATED:20230926T211313Z
LAST-MODIFIED:20240502T023052Z
UID:12215-1727222400-1730851199@www.cruisewinetravel.com
SUMMARY:Epicurean Spotlight On Wine: Charles Krug Winery With Hosts Peter & Katie Mondavi 2024
DESCRIPTION:BOOK NOW:   Call 206-399-2138   |   Email amartindale@cruiseplanners.com\n\n  \nEpicurean Spotlight on Wine: \nCHARLES KRUG WINERY WITH HOSTS PETER & KATIE MONDAVI\n \n \nRome (Civitavecchia) to Trieste\n10-night cruise September 25th to October 5th\, 2024 \non Regent Seven Seas “Voyager”\n \n \n \nIncludes: \nWelcome & Farewell Receptions \nWine-Paired Dinners & Tastings led by Peter Mondavi Jr. \n$400 Shipboard Credit per Suite \nRoundtrip Business Class Air* on All Intercontinental Flights \nUnlimited Beverages\, Including Fine Wines and Premium Spirits \nPrivate Group Epicurean Experiences* \nUnlimited Shore Excursions \nPre-Paid Gratuities \nSpecialty Restaurants \n24-Hour Room Service \nTransfers Between Airport and Ship* \nUnlimited WiFi* \nValet Laundry Service* \nConcierge Suites and above include 1-Night Pre-Cruise Hotel Package \nPenthouse suites and above include Free Personal Butler \n(* Terms & Conditions apply) \n \nStart your adventure in Rome where you’ll board the cruise ship in the port of Civitavecchia.  From there\, you’ll set sail for Amalfi\, known for its stunning coastline and beautiful town of Positano.  Next up is Messina\, Sicily\, where historical & architectural treasures abound in this important port city.  The next day\, you’ll dock in Valetta\, the capital of Malta\, a UNESCO World Heritage site and enjoy the historic center and harbor.  Spend a day cruising the Ionean Sea\, then discover Igoumenitsa\, a costal town in Greece that boasts beautiful beaches and rich archaeological sites.  Set sail for Albania where you’ll dock in Durres\, a short drive from Tirana\, the Albanian capital.  Your next port will be Kotor in Montenegro\, a well-preserved medieval town surrounded by glorious mountains.  Climb the city walls to enjoy unique panoramic views.  The next day\, you’ll arrive in Rijeka\, Croatia\, a port city with a rich cultural scene with many museums and stunning Trsat castle.  End your trip in Trieste\, Italy\, a city with a mix of Italian\, Austrian and Slovenian influences. \nOptions for Pre & Post Cruise extentions are available!
URL:http://www.cruisewinetravel.com/event/epicurean-spotlight-on-wine-charles-krug-winery-with-hosts-peter-katie-mondavi-2024/
LOCATION:Regent Seven Seas Cruises ~ Seven Seas Voyager
CATEGORIES:Wine & Food Cruises/Tours
ATTACH;FMTTYPE=image/jpeg:http://www.cruisewinetravel.com/wp-content/uploads/2020/09/voyager.jpg
END:VEVENT
BEGIN:VEVENT
DTSTART;VALUE=DATE:20241027
DTEND;VALUE=DATE:20241104
DTSTAMP:20260423T180304
CREATED:20230501T191349Z
LAST-MODIFIED:20230501T191427Z
UID:12200-1729987200-1730678399@www.cruisewinetravel.com
SUMMARY:Wiens Family Cellars Cruise 2024
DESCRIPTION:BOOK NOW:   Call 206-399-2138   |   Email amartindale@cruiseplanners.com\n\n\n\n  \nBrilliant Bordeaux Cruise\nOctober 27th – November 3rd\, 2024\n  \nRound-Trip Bordeaux \n \n  \nUncover the proud legacy and heritage of Southwest France\nSet sail along three stunning rivers\, the Garonne\, Dordogne and Gironde\, on one fascinatingly historical and invigorating journey. Explore the country’s breathtaking backdrops\, wines and cultural treasures across the region in Bordeaux\, Fort Médoc\, Cadillac\, Blaye\, Libourne and more. Wander through archaeological marvels\, historic landmarks and magnificent vineyards where you’ll be treated to a sampling of quintessentially French experiences. \nEmbark on a scenic drive from Blaye to Bourg along the Route de la Corniche Fleurie and marvel at the sights of Blaye Fortress and Lansac Windmill along the way. Slow things down in Libourne and on your return to Bordeaux with multiple wine tastings\, village tours\, a farmers’ market visit and Bordeaux heritage walking tour. Join us on a showcase of the best Southwest France has to offer. \n \nACCOMMODATIONS\n✔️7-night cruise in a riverview stateroom on the breathtaking S.S. Bon Voyage \n✔️Lavishly appointed riverview staterooms and suites have handcrafted Savoir® Beds of England\, high thread count 100% Egyptian cotton sheets and European duvets\, and a menu of pillow options \n✔️Free Internet and Wi-Fi access \n \nEXPERIENCES \n✔️ 1 country: France \n✔️ 3 UNESCO World Heritage sites \n✔️ Captivating onboard local entertainment \n✔️ Cultural enrichment\, including Signature Lectures \n✔️ Services of an experienced Uniworld Cruise Manager \n✔️ All transfers on arrival and departure days \n✔️ Gratuities for onboard personnel (ship staff\, crew\, Cruise/Tour Manager) are included during the cruise/tour \n \nDINING \n✔️ All meals onboard\, prepared using the finest and freshest ingredients \n✔️ 7 breakfasts\, 5 lunches\, 7 dinners \n✔️ Captain’s Welcome and Farewell Receptions \n✔️ Welcome and Farewell Gala Dinners \n✔️ Unlimited beverages onboard\, including fine wine\, beer\, spirits\, specialty coffee and tea\, soft drinks and mineral water \n \nEXCURSIONS \n✔️ 6 days of excursions\, including “Choice Is Yours” options\, all fully hosted by English-speaking local experts \n✔️ Guided “Let’s Go\,” “Do as the Locals Do” and “Village Day” programs \n✔️ State-of-the-art Quietvox portable audio-headset system on all excursions \n✔️ Use of bicycles and Nordic walking sticks
URL:http://www.cruisewinetravel.com/event/wiens-family-cellars-cruise-2024/
LOCATION:Uniworld Boutique River Cruises ~ S.S. Bon Voyage
CATEGORIES:Wine & Food Cruises/Tours
ATTACH;FMTTYPE=image/jpeg:http://www.cruisewinetravel.com/wp-content/uploads/2023/05/bon_voyage.jpg
END:VEVENT
END:VCALENDAR