BEGIN:VCALENDAR
VERSION:2.0
PRODID:-//Martindale Travel and Tours - ECPv6.15.11//NONSGML v1.0//EN
CALSCALE:GREGORIAN
METHOD:PUBLISH
X-ORIGINAL-URL:http://www.cruisewinetravel.com
X-WR-CALDESC:Events for Martindale Travel and Tours
REFRESH-INTERVAL;VALUE=DURATION:PT1H
X-Robots-Tag:noindex
X-PUBLISHED-TTL:PT1H
BEGIN:VTIMEZONE
TZID:UTC
BEGIN:STANDARD
TZOFFSETFROM:+0000
TZOFFSETTO:+0000
TZNAME:UTC
DTSTART:20210101T000000
END:STANDARD
END:VTIMEZONE
BEGIN:VEVENT
DTSTART;VALUE=DATE:20220917
DTEND;VALUE=DATE:20220926
DTSTAMP:20260425T025321
CREATED:20210308T174822Z
LAST-MODIFIED:20210308T174938Z
UID:11937-1663372800-1664150399@www.cruisewinetravel.com
SUMMARY:Record Family Wine Cruise 2022
DESCRIPTION:BOOK NOW:   Call 206-399-2138   |   Email amartindale@cruiseplanners.com\n\n\nRecord Family Wine Cruise\n \nCoastal California Cruise – Golden Vines\nRound-Trip Los Angeles \nOceania Regatta \nSeptember 17th – 25th\, 2022 \n \nIncluded: \nCOMPLIMENTARY GRATUITIES \nWELCOME & FAREWELL COCKTAIL PARTIES WITH RECORD FAMILY WINES \nWINE PAIRED DINNER WITH RECORD FAMILY WINES \nWINE TASTING WITH RECORD FAMILY WINES \nPLUS \nEnjoy Free Internet plus choose one amenity: \n– 4 Shore Excursions OR\n– Beverage Package OR\n– $400 Shipboard Credit \nAmenities are per stateroom \nWe will also enjoy exclusive group food and wine excursions  \n(for an additional charge) in: \nSanta Barbara \nEnsenada (Valle De Guadalupe wine region) \nSan Francisco (Napa/Sonoma)
URL:http://www.cruisewinetravel.com/event/record-family-wine-cruise-2022/
LOCATION:Oceania Cruises ~ Regatta
CATEGORIES:Wine & Food Cruises/Tours
ATTACH;FMTTYPE=image/jpeg:http://www.cruisewinetravel.com/wp-content/uploads/2020/10/regatta.jpg
END:VEVENT
END:VCALENDAR